BEGIN:VCALENDAR
VERSION:2.0
PRODID:-//EcoNatick - ECPv6.15.18//NONSGML v1.0//EN
CALSCALE:GREGORIAN
METHOD:PUBLISH
X-ORIGINAL-URL:https://econatick.org
X-WR-CALDESC:Events for EcoNatick
REFRESH-INTERVAL;VALUE=DURATION:PT1H
X-Robots-Tag:noindex
X-PUBLISHED-TTL:PT1H
BEGIN:VTIMEZONE
TZID:America/New_York
BEGIN:DAYLIGHT
TZOFFSETFROM:-0500
TZOFFSETTO:-0400
TZNAME:EDT
DTSTART:20230312T070000
END:DAYLIGHT
BEGIN:STANDARD
TZOFFSETFROM:-0400
TZOFFSETTO:-0500
TZNAME:EST
DTSTART:20231105T060000
END:STANDARD
BEGIN:DAYLIGHT
TZOFFSETFROM:-0500
TZOFFSETTO:-0400
TZNAME:EDT
DTSTART:20240310T070000
END:DAYLIGHT
BEGIN:STANDARD
TZOFFSETFROM:-0400
TZOFFSETTO:-0500
TZNAME:EST
DTSTART:20241103T060000
END:STANDARD
BEGIN:DAYLIGHT
TZOFFSETFROM:-0500
TZOFFSETTO:-0400
TZNAME:EDT
DTSTART:20250309T070000
END:DAYLIGHT
BEGIN:STANDARD
TZOFFSETFROM:-0400
TZOFFSETTO:-0500
TZNAME:EST
DTSTART:20251102T060000
END:STANDARD
END:VTIMEZONE
BEGIN:VEVENT
DTSTART;TZID=America/New_York:20240427T140000
DTEND;TZID=America/New_York:20240428T210000
DTSTAMP:20260421T214306
CREATED:20251125T162525Z
LAST-MODIFIED:20251125T162525Z
UID:10000085-1714226400-1714338000@econatick.org
SUMMARY:Joyce's Garden - Self-guided Tours
DESCRIPTION:Stop by to tour a beautiful home garden in Natick Center – and perhaps get some ideas for your own garden! This will not be a guided tour. \nThis home is in town center\, and the activity will be open for visitors from 10 am – 5 pm on both Saturday and Sunday. \nACCESS & ACCESSIBILITY: \n\nNot accessible to wheelchairs\nThere is no parking on this road – please park on Forest Street.\n\nWEATHER: The event will be held rain or shine.
URL:https://econatick.org/event/joyces-garden-self-guided-tours/
LOCATION:73 West Central Street\, Natick\, 73 West Central Street\, Natick\, Massachusetts\, US
ATTACH;FMTTYPE=image/jpeg:https://massenergize-wp-media.s3.us-east-2.amazonaws.com/sites/28/Joyce_framed-240330-173810.jpg
END:VEVENT
END:VCALENDAR