BEGIN:VCALENDAR
VERSION:2.0
PRODID:-//EcoNatick - ECPv6.15.18//NONSGML v1.0//EN
CALSCALE:GREGORIAN
METHOD:PUBLISH
X-WR-CALNAME:EcoNatick
X-ORIGINAL-URL:https://econatick.org
X-WR-CALDESC:Events for EcoNatick
REFRESH-INTERVAL;VALUE=DURATION:PT1H
X-Robots-Tag:noindex
X-PUBLISHED-TTL:PT1H
BEGIN:VTIMEZONE
TZID:America/New_York
BEGIN:DAYLIGHT
TZOFFSETFROM:-0500
TZOFFSETTO:-0400
TZNAME:EDT
DTSTART:20250309T070000
END:DAYLIGHT
BEGIN:STANDARD
TZOFFSETFROM:-0400
TZOFFSETTO:-0500
TZNAME:EST
DTSTART:20251102T060000
END:STANDARD
BEGIN:DAYLIGHT
TZOFFSETFROM:-0500
TZOFFSETTO:-0400
TZNAME:EDT
DTSTART:20260308T070000
END:DAYLIGHT
BEGIN:STANDARD
TZOFFSETFROM:-0400
TZOFFSETTO:-0500
TZNAME:EST
DTSTART:20261101T060000
END:STANDARD
BEGIN:DAYLIGHT
TZOFFSETFROM:-0500
TZOFFSETTO:-0400
TZNAME:EDT
DTSTART:20270314T070000
END:DAYLIGHT
BEGIN:STANDARD
TZOFFSETFROM:-0400
TZOFFSETTO:-0500
TZNAME:EST
DTSTART:20271107T060000
END:STANDARD
END:VTIMEZONE
BEGIN:VEVENT
DTSTART;TZID=America/New_York:20260301T140000
DTEND;TZID=America/New_York:20260301T170000
DTSTAMP:20260421T060249
CREATED:20260210T224405Z
LAST-MODIFIED:20260210T224405Z
UID:10000161-1772373600-1772384400@econatick.org
SUMMARY:Framingham Repair Cafe
DESCRIPTION:Got something that needs fixing or mending? Our volunteers can help fix many things\, including: clothing\, lamps\, small appliances\, computers/other electronics\, bikes\, batteries\, toys\, jewelry\, and sewing machines.  We will also have a station for sharpening straight knives\, scissors and garden tools. \nIf you know what parts are needed\, please get them ahead of time.  Let us know if you have any questions 🙂 \nRSVP optional\, but appreciated.
URL:https://econatick.org/event/framingham-repair-cafe/
LOCATION:Scott Hall\, 24 Vernon St.\, Framingham\, United States
END:VEVENT
BEGIN:VEVENT
DTSTART;TZID=America/New_York:20260314T083000
DTEND;TZID=America/New_York:20260314T113000
DTSTAMP:20260421T060249
CREATED:20260129T184432Z
LAST-MODIFIED:20260305T015636Z
UID:10000158-1773477000-1773487800@econatick.org
SUMMARY:Maple Magic Pancake Breakfast
DESCRIPTION:Help Natick Community Organic Farm celebrate the sweetest time of year! Every sugaring season\, the farm hosts an all-you-can-eat pancake breakfast (with Natick Farm syrup\, of course!). While you’re there\, talk with other community organizations at the Lobby Fair\, do some crafts with the farm’s 4H club\, enjoy some live music\, and take a Maple Sugaring tour before or after you eat! \nTickets are on sale now. \n 
URL:https://econatick.org/event/maple-magic-pancake-breakfast/
LOCATION:Memorial Elementary School\, 107 Eliot St\,\, Natick\, 01760\, United States
ATTACH;FMTTYPE=image/jpeg:https://econatick.org/wp-content/uploads/sites/28/2026/01/maple-ncof.jpg
END:VEVENT
BEGIN:VEVENT
DTSTART;TZID=America/New_York:20260319T190000
DTEND;TZID=America/New_York:20260319T200000
DTSTAMP:20260421T060249
CREATED:20260305T023834Z
LAST-MODIFIED:20260316T030515Z
UID:10000165-1773946800-1773950400@econatick.org
SUMMARY:Make the Switch: From Gas to Cleaner Induction Cooking
DESCRIPTION:Ready to upgrade your kitchen? Switch from gas to induction for faster\, safer\, and cleaner cooking! \nJoin our free webinar to learn how induction works\, get tips\, and discover incentives to make the switch easier. \nRegister now!\nhttps://www.energizewayland.org/events/2147
URL:https://econatick.org/event/make-the-switch-from-gas-to-cleaner-induction-cooking/
ATTACH;FMTTYPE=image/jpeg:https://econatick.org/wp-content/uploads/sites/28/2026/03/Induction-Stove.jpg
END:VEVENT
BEGIN:VEVENT
DTSTART;TZID=America/New_York:20260324T190000
DTEND;TZID=America/New_York:20260324T201500
DTSTAMP:20260421T060249
CREATED:20260305T022535Z
LAST-MODIFIED:20260316T030919Z
UID:10000164-1774378800-1774383300@econatick.org
SUMMARY:Climate Conversation with Candidates
DESCRIPTION:EcoNatick’s virtual Climate Conversation with the 3 candidates in a race for the 2 open seats on the School Committee will be at this Zoom link:\nhttps://commonstreet.zoom.us/j/91516176893?pwd=kCP0iwfMTrOQgoJ4jfOWqnH3aaDzDP.1\n\nWhile attendees will remain muted throughout the event\, the chat will be open for comments and questions for the candidates which our moderator will select to be shared during the live event. The event will be recorded\, and questions in advance from the public will be considered by the moderator\, Susan Simone Kang.\n\nThe three candidates are:\n\nMatt Brand (two term incumbent\, parent of 2 NPS students)\nDr. Donna McKenzie (former two term member of the School Committee and chair of their Policy Sub-Committee)\nMatt Welch (Education Professional\, previous middle and high school English teacher\, youth sports coach\, Kennedy Middle School School Council\, parent of 2 kids in NPS)
URL:https://econatick.org/event/climate-conversation-with-candidates/
ATTACH;FMTTYPE=image/jpeg:https://econatick.org/wp-content/uploads/sites/28/2026/03/Climate-Convos-School-Committee-2026-e1772677724518.jpg
END:VEVENT
END:VCALENDAR