BEGIN:VCALENDAR
VERSION:2.0
PRODID:-//EcoNatick - ECPv6.15.18//NONSGML v1.0//EN
CALSCALE:GREGORIAN
METHOD:PUBLISH
X-ORIGINAL-URL:https://econatick.org
X-WR-CALDESC:Events for EcoNatick
REFRESH-INTERVAL;VALUE=DURATION:PT1H
X-Robots-Tag:noindex
X-PUBLISHED-TTL:PT1H
BEGIN:VTIMEZONE
TZID:America/New_York
BEGIN:DAYLIGHT
TZOFFSETFROM:-0500
TZOFFSETTO:-0400
TZNAME:EDT
DTSTART:20230312T070000
END:DAYLIGHT
BEGIN:STANDARD
TZOFFSETFROM:-0400
TZOFFSETTO:-0500
TZNAME:EST
DTSTART:20231105T060000
END:STANDARD
BEGIN:DAYLIGHT
TZOFFSETFROM:-0500
TZOFFSETTO:-0400
TZNAME:EDT
DTSTART:20240310T070000
END:DAYLIGHT
BEGIN:STANDARD
TZOFFSETFROM:-0400
TZOFFSETTO:-0500
TZNAME:EST
DTSTART:20241103T060000
END:STANDARD
BEGIN:DAYLIGHT
TZOFFSETFROM:-0500
TZOFFSETTO:-0400
TZNAME:EDT
DTSTART:20250309T070000
END:DAYLIGHT
BEGIN:STANDARD
TZOFFSETFROM:-0400
TZOFFSETTO:-0500
TZNAME:EST
DTSTART:20251102T060000
END:STANDARD
BEGIN:DAYLIGHT
TZOFFSETFROM:-0500
TZOFFSETTO:-0400
TZNAME:EDT
DTSTART:20260308T070000
END:DAYLIGHT
BEGIN:STANDARD
TZOFFSETFROM:-0400
TZOFFSETTO:-0500
TZNAME:EST
DTSTART:20261101T060000
END:STANDARD
END:VTIMEZONE
BEGIN:VEVENT
DTSTART;TZID=America/New_York:20241231T213000
DTEND;TZID=America/New_York:20250101T003000
DTSTAMP:20260422T041405
CREATED:20251125T162415Z
LAST-MODIFIED:20251125T162415Z
UID:10000043-1735680600-1735691400@econatick.org
SUMMARY:Cochituate Rail Trail on New Year's Eve
DESCRIPTION:Come enjoy the Cochituate Rail Trail on New Year’s Eve! Enjoy live performances\, enchanting lighting\, tasty treets\, and fire pits hosted by nineteen community groups. This is a family-friendly\, fun event sure to bring a smile to your face. \nGet details at FriendsOfNatickTrails.org/crtnye. Fire pits will be located from Bacon Street to Chrysler Road. \nThis free event is supported with sponsorship from TJX\, the assistance of Amvets Post 79\, and the support of the Town of Natick Public Works\, Fire\, and Police. \nSome parking is avaiable at the CRT Mechanic Street lot\, but walking to the event is encouraged.
URL:https://econatick.org/event/cochituate-rail-trail-on-new-years-eve/
LOCATION:Cochituate Rail Trail\, Chrysler Road\, Natick\, Massachusetts\, US
ATTACH;FMTTYPE=image/jpeg:https://massenergize-wp-media.s3.us-east-2.amazonaws.com/sites/28/IMG_5734-241230-173723.jpeg
END:VEVENT
BEGIN:VEVENT
DTSTART;TZID=America/New_York:20250123T223000
DTEND;TZID=America/New_York:20250124T003000
DTSTAMP:20260422T041405
CREATED:20251125T162414Z
LAST-MODIFIED:20251125T162414Z
UID:10000042-1737671400-1737678600@econatick.org
SUMMARY:Pathways to Action: Climate Conversations at the Local Level
DESCRIPTION:Inspired by the current exhibition DM Witman: Ecologies of Restoration\, Pathways to Action includes opportunities to hear from experts whose work focuses on the human potential to act in the face of our changing climate\, and to learn how each of us can get involved with local climate-focused organizations. The evening will begin with lightning presentations by\, and conversation among\, artist DM Witman\, Dr. Lawrence McKenna (FSU Department Chair\, Environment\, Society\, & Sustainability)\, Dr. Vandana Singh (FSU Professor\, Environment\, Society\, & Sustainability)\, and Uli Lorimer (Native Plant Trust Director of Horticulture). Join us after the presentation for continued conversations with climate advocates and community leaders to ask questions and hear about opportunities to get involved with building a more resilient climate\, starting with your own community. \nThe intention of this program is to create an inclusive\, welcoming space to explore practical ways to tackle climate change. Several local and national organizations will be present and ready to offer ways for you to get involved in taking action. \nRefreshments will be served. \nThis event is FREE. Registration encouraged– https://danforthartmuseum.wildapricot.org/event-5979418 
URL:https://econatick.org/event/pathways-to-action-climate-conversations-at-the-local-level/
LOCATION:Danforth Art Museum and School\, 14 Vernon Street\, Framingham\, MA\, US
ATTACH;FMTTYPE=image/jpeg:https://massenergize-wp-media.s3.us-east-2.amazonaws.com/sites/28/Graphic_Promo_Climate_1.jpg
END:VEVENT
BEGIN:VEVENT
DTSTART;TZID=America/New_York:20250124T000000
DTEND;TZID=America/New_York:20250124T010000
DTSTAMP:20260422T041405
CREATED:20251125T162411Z
LAST-MODIFIED:20251125T162411Z
UID:10000041-1737676800-1737680400@econatick.org
SUMMARY:RECORDING: Solar Webinar 1/23
DESCRIPTION:Considering solar energy? plugIN into the possibilities with us! \nWatch the recording of our solar webinar to explore this renewable energy option for powering your home and reducing your carbon footprint. The session was presented by Matt Honkonen from East Coast Solar. \nEnroll for free here to access this recording and other valuable resources\, or visit the link on YouTube. 
URL:https://econatick.org/event/recording-solar-webinar-1-23/
ATTACH;FMTTYPE=image/png:https://massenergize-wp-media.s3.us-east-2.amazonaws.com/sites/28/rec_Solar_Webinar_123_-250203-220501.png
END:VEVENT
END:VCALENDAR