BEGIN:VCALENDAR
VERSION:2.0
PRODID:-//EcoNatick - ECPv6.15.18//NONSGML v1.0//EN
CALSCALE:GREGORIAN
METHOD:PUBLISH
X-WR-CALNAME:EcoNatick
X-ORIGINAL-URL:https://econatick.org
X-WR-CALDESC:Events for EcoNatick
REFRESH-INTERVAL;VALUE=DURATION:PT1H
X-Robots-Tag:noindex
X-PUBLISHED-TTL:PT1H
BEGIN:VTIMEZONE
TZID:America/New_York
BEGIN:DAYLIGHT
TZOFFSETFROM:-0500
TZOFFSETTO:-0400
TZNAME:EDT
DTSTART:20230312T070000
END:DAYLIGHT
BEGIN:STANDARD
TZOFFSETFROM:-0400
TZOFFSETTO:-0500
TZNAME:EST
DTSTART:20231105T060000
END:STANDARD
BEGIN:DAYLIGHT
TZOFFSETFROM:-0500
TZOFFSETTO:-0400
TZNAME:EDT
DTSTART:20240310T070000
END:DAYLIGHT
BEGIN:STANDARD
TZOFFSETFROM:-0400
TZOFFSETTO:-0500
TZNAME:EST
DTSTART:20241103T060000
END:STANDARD
BEGIN:DAYLIGHT
TZOFFSETFROM:-0500
TZOFFSETTO:-0400
TZNAME:EDT
DTSTART:20250309T070000
END:DAYLIGHT
BEGIN:STANDARD
TZOFFSETFROM:-0400
TZOFFSETTO:-0500
TZNAME:EST
DTSTART:20251102T060000
END:STANDARD
END:VTIMEZONE
BEGIN:VEVENT
DTSTART;TZID=America/New_York:20240908T180000
DTEND;TZID=America/New_York:20240908T210000
DTSTAMP:20260424T092546
CREATED:20251125T162429Z
LAST-MODIFIED:20251125T162429Z
UID:10000051-1725818400-1725829200@econatick.org
SUMMARY:Natick Repair Cafe
DESCRIPTION:Sponsored by Natick Rotary\, we will be conducting our 5th Repair Café on Sunday\, September 8th from 2:00 – 5:00 at\, and in conjunction with\, the Natick Community Senior Center’s Council on Aging & Human Services.  \nIf you’re unfamiliar with Repair Cafés\, it’s an opportunity for people to bring a whole host of different items in need of repair that volunteers\, with skills in different disciplines\, will do their best to fix for free! \nWe invite you to bring in the following items in need of repair: Lamps\, electronics & small appliances\, laptop computers for IT work; small furniture; as well as non-serrated knives\, scissors\, and garden tools for sharpening. Also\, we’ll do our best to do machine & hand sewing repairs of clothing & household textiles. 
URL:https://econatick.org/event/natick-repair-cafe/
LOCATION:Natick Community Senior Center\, 117 East Central Street\, Natick\, Massachusetts\, US
ATTACH;FMTTYPE=image/jpeg:https://massenergize-wp-media.s3.us-east-2.amazonaws.com/sites/28/Celine_fixing_lamps_4-27-24.jpg
END:VEVENT
BEGIN:VEVENT
DTSTART;TZID=America/New_York:20240926T230000
DTEND;TZID=America/New_York:20240927T010000
DTSTAMP:20260424T092546
CREATED:20251125T162421Z
LAST-MODIFIED:20251125T162428Z
UID:10000046-1727391600-1727398800@econatick.org
SUMMARY:Spiritual practice for climate-concerned people
DESCRIPTION:Join us if you’d like to: \n\nReinforce our Interdependence\nHonor your Grief for the World\nExplore New Perspectives on the complex problems facing our society such as environmental degradation\, climate change and human suffering.\nManifest a Life-Sustaining Society\n\nEach two hour gathering will use The Work That Reconnects (https://workthatreconnects.org/ developed by Joanna Macy and others) an interactive group process that integrates systems thinking\, deep ecology\, deep time\, spiritual traditions and undoing oppression. \nYou will find an excellent introduction to The Work that Reconnects by listening to this podcast: We Are the Great Turning (https://resources.soundstrue.com/we-are-the-great…/) \nWe will begin promptly at 7 pm. \nCo-Facilitators:Laura HakeMichael CorthellColleen Puzas \nWe each have extensive experience creating safe spaces for learning and building community\, along with a deep love for our good green Earth. \nWe meet monthly\, typically each third Wednesday.
URL:https://econatick.org/event/spiritual-practice-for-climate-concerned-people/
LOCATION:Common Street Spiritual Center\, 13 Common Street\, Natick\, Massachusetts\, US
ATTACH;FMTTYPE=image/jpeg:https://massenergize-wp-media.s3.us-east-2.amazonaws.com/sites/28/Creating_the_great_turning_landscape-1.jpg
END:VEVENT
END:VCALENDAR