BEGIN:VCALENDAR
VERSION:2.0
PRODID:-//EcoNatick - ECPv6.15.18//NONSGML v1.0//EN
CALSCALE:GREGORIAN
METHOD:PUBLISH
X-WR-CALNAME:EcoNatick
X-ORIGINAL-URL:https://econatick.org
X-WR-CALDESC:Events for EcoNatick
REFRESH-INTERVAL;VALUE=DURATION:PT1H
X-Robots-Tag:noindex
X-PUBLISHED-TTL:PT1H
BEGIN:VTIMEZONE
TZID:America/New_York
BEGIN:DAYLIGHT
TZOFFSETFROM:-0500
TZOFFSETTO:-0400
TZNAME:EDT
DTSTART:20220313T070000
END:DAYLIGHT
BEGIN:STANDARD
TZOFFSETFROM:-0400
TZOFFSETTO:-0500
TZNAME:EST
DTSTART:20221106T060000
END:STANDARD
BEGIN:DAYLIGHT
TZOFFSETFROM:-0500
TZOFFSETTO:-0400
TZNAME:EDT
DTSTART:20230312T070000
END:DAYLIGHT
BEGIN:STANDARD
TZOFFSETFROM:-0400
TZOFFSETTO:-0500
TZNAME:EST
DTSTART:20231105T060000
END:STANDARD
BEGIN:DAYLIGHT
TZOFFSETFROM:-0500
TZOFFSETTO:-0400
TZNAME:EDT
DTSTART:20240310T070000
END:DAYLIGHT
BEGIN:STANDARD
TZOFFSETFROM:-0400
TZOFFSETTO:-0500
TZNAME:EST
DTSTART:20241103T060000
END:STANDARD
BEGIN:DAYLIGHT
TZOFFSETFROM:-0500
TZOFFSETTO:-0400
TZNAME:EDT
DTSTART:20250309T070000
END:DAYLIGHT
BEGIN:STANDARD
TZOFFSETFROM:-0400
TZOFFSETTO:-0500
TZNAME:EST
DTSTART:20251102T060000
END:STANDARD
END:VTIMEZONE
BEGIN:VEVENT
DTSTART;TZID=America/New_York:20240427T130000
DTEND;TZID=America/New_York:20240427T170000
DTSTAMP:20260422T175319
CREATED:20251125T162519Z
LAST-MODIFIED:20251125T162519Z
UID:10000078-1714222800-1714237200@econatick.org
SUMMARY:Earth-Friendly Fair (Town Common)
DESCRIPTION:Our Theme: “MAKE A SHIFT\, GIVE THE EARTH A GIFT!” \nSPECIAL EVENT – WARMING STRIPES BANNER (details here) visits Natick Town Common at 11:00am!Bring a noisemaker and join the parade! \nExplore the tables\, 9:00am to 1:00pm.Pick up a PASSPORT at any table\, and collect a sticker for your passport at each table you visit.Win a prize for collecting 5 stickers if you can tell us:  What will be YOUR shift? \n\nEV Petting Zoo with Buyer’s Guide presentation: 10-11am. First Congregational Church lot.\nHelp Natick’s Net Zero Committee implement our town’s Net Zero Plan.\nHow we can stop private jet expansion at Hanscom and EVERYWHERE.\nLandscaping for wildlife and resilient planting from Mass Audubon.\nMake your own NO MOW MAY sign\, from your friends at EcoNatick.org.\nPaint messages about climate change on rocks (and put them out to inspire others) with Wellesley College students.\nMeet a polar bear and take action! Talk to 350 Mass MetroWest.\nHome energy efficiency and MassSave incentives\, offered by Neeeco\,LLC.\nMake a corn husk doll or try beading with Natick Nipmuc Tribe.\nGet trail maps and go on a scavenger hunt with Natick Open Spaces &Trails.\nMake art from recycled materials and explore what climate justice is with Natick Is United.\nThe hazards of vape waste\, offered by Natick 180 and Natick Board of Health.\nAppreciating and protecting Natick’s wonderful trees – meet folks from Natick Tree Protection.\nSend a postcard to a government official\, and start composting with Ma’yan Tikvah.\nFind out how you can help to contribute real science data to a global network\, with New England Sci-Tech.\n\nMusic provided by:Modern Crocodile (10am-11am)Natick Drumming Circle (11am-noon)Sophia Bozok\, Wellesley School of Music (noon-1pm) 
URL:https://econatick.org/event/earth-friendly-fair-town-common/
LOCATION:Natick Town Common\, 13 Common Street\, Natick\, Massachusetts\, US
ATTACH;FMTTYPE=image/jpeg:https://massenergize-wp-media.s3.us-east-2.amazonaws.com/sites/28/Earth_Friendly_Fair-240322-234128-1.jpg
END:VEVENT
BEGIN:VEVENT
DTSTART;TZID=America/New_York:20240427T130000
DTEND;TZID=America/New_York:20240427T160000
DTSTAMP:20260422T175319
CREATED:20251125T162458Z
LAST-MODIFIED:20251125T162458Z
UID:10000070-1714222800-1714233600@econatick.org
SUMMARY:Household Hazardous Waste Collection
DESCRIPTION:This is for Natick Residents only and tickets must be purchased in advance from the Health Department. \nPlease visit this webpage for more information or call the Health Department office at (508) 647-6460 if you have any questions.
URL:https://econatick.org/event/household-hazardous-waste-collection/
LOCATION:Natick Dept. of Public Works\, 75 West Street\, Natick\, Massachusetts\, US
ATTACH;FMTTYPE=image/jpeg:https://massenergize-wp-media.s3.us-east-2.amazonaws.com/sites/28/465_-_Haz_Waste-240330-024631.jpg
END:VEVENT
BEGIN:VEVENT
DTSTART;TZID=America/New_York:20240427T130000
DTEND;TZID=America/New_York:20240427T160000
DTSTAMP:20260422T175319
CREATED:20251125T162423Z
LAST-MODIFIED:20251125T162457Z
UID:10000048-1714222800-1714233600@econatick.org
SUMMARY:Clothing textile recycling drive
DESCRIPTION:Quick drive-through! Bring your clothes and textiles not fit for reuse including bedding\, towels and shoes. (think “pink bag” items). \nRAIN OR SHINE. \nSponsored by Fisk Church-United Women in Faith – All of the income will go back into the community.
URL:https://econatick.org/event/clothing-textile-recycling-drive/
LOCATION:Fisk Memorial Church\, 106 Walnut Street\, Room parking lot\, Natick\, Massachusetts\, US
ATTACH;FMTTYPE=image/jpeg:https://massenergize-wp-media.s3.us-east-2.amazonaws.com/sites/28/clothing_framed-240404-175222.jpg
END:VEVENT
BEGIN:VEVENT
DTSTART;TZID=America/New_York:20240422T213000
DTEND;TZID=America/New_York:20240423T003000
DTSTAMP:20260422T175319
CREATED:20251125T162459Z
LAST-MODIFIED:20251125T162459Z
UID:10000071-1713821400-1713832200@econatick.org
SUMMARY:Earth Day Par-tay! Live concert benefit
DESCRIPTION:Come celebrate Earth Day with Skybokx’s delicious food & drink\, and live performances from local musicians and DJs.  We’ll also have a talk from pollination ecologist\, Dr. Katie Burns\, “the Joyful Ecologist.” \nFeaturing: – Modern Crocodiles – Jay & Dylan from the band Papercage– Butterflyy Catcher \nThis is a fundraiser for EcoNatick.org!  If you are able\, please bring $5-10 cash to help keep the Earth-friendly ideas coming!  Thank you.
URL:https://econatick.org/event/earth-day-par-tay-live-concert-benefit/
LOCATION:Skybokx 109\, 319 Speen St.\, Natick\, Massachusetts\, US
ATTACH;FMTTYPE=image/jpeg:https://massenergize-wp-media.s3.us-east-2.amazonaws.com/sites/28/Earth_Day_Par-tay_framed-240330-205938.jpg
END:VEVENT
BEGIN:VEVENT
DTSTART;TZID=America/New_York:20240420T130000
DTEND;TZID=America/New_York:20240420T160000
DTSTAMP:20260422T175319
CREATED:20251125T162500Z
LAST-MODIFIED:20251125T162500Z
UID:10000072-1713618000-1713628800@econatick.org
SUMMARY:Community Shredding Event
DESCRIPTION:Community Shredding Event: Seniors Shred for Free!\nApril 20\, 9 AM – 12 PM\nNHS Football Field Parking Lot\n \nNatick seniors are invited to shred up to 5 boxes or bags of sensitive documents at no cost\, at the DPW’s spring paper shredding event. All paper will be shredded by ProShred\, a professional shredding company with state-of-the-art shredding trucks for document destruction and paper shredding services.\n \nSponsored by Natick’s Office of Sustainability 
URL:https://econatick.org/event/community-shredding-event/
LOCATION:Natick Football Field parking lot\, 15 West Street\, Natick\, Massachusetts\, US
ATTACH;FMTTYPE=image/jpeg:https://massenergize-wp-media.s3.us-east-2.amazonaws.com/sites/28/shredded_paper-240225-035724.jpg
END:VEVENT
BEGIN:VEVENT
DTSTART;TZID=America/New_York:20240418T230000
DTEND;TZID=America/New_York:20240419T003000
DTSTAMP:20260422T175319
CREATED:20251125T162505Z
LAST-MODIFIED:20251125T162505Z
UID:10000073-1713481200-1713486600@econatick.org
SUMMARY:Public Forum on Specialized Energy Code
DESCRIPTION:Join the Natick Net Zero Committee and code experts from the MA Department of Energy Resources and Mass Save for an overview of the Specialized Energy Code\, which is being considered for adoption by Spring Town Meeting. \nAmple time for Q&A and a review of available incentives and upcoming training opportunities will also be provided. \nPlease register here to participate. \nLEARN MORE: Our neighbors at EnergizeFramingham published an informative article about the specialized stretch code. \n 
URL:https://econatick.org/event/public-forum-on-specialized-energy-code/
ATTACH;FMTTYPE=image/jpeg:https://massenergize-wp-media.s3.us-east-2.amazonaws.com/sites/28/IMG_8372-231006-004611-scaled.jpg
END:VEVENT
BEGIN:VEVENT
DTSTART;TZID=America/New_York:20240406T130000
DTEND;TZID=America/New_York:20240406T150000
DTSTAMP:20260422T175319
CREATED:20251125T162510Z
LAST-MODIFIED:20251125T162510Z
UID:10000074-1712408400-1712415600@econatick.org
SUMMARY:Keep Natick Beautiful Pre-Marathon Cleanup
DESCRIPTION:Please join Keep Natick Beautiful for a pre-marathon cleanup. \nPickers\, and safety vests will be provided.  Wear old clothing\, sneakers\, long pants\, long-sleeve shirt\, bring a water bottle\, and gloves (if you have them).
URL:https://econatick.org/event/keep-natick-beautiful-pre-marathon-cleanup/
LOCATION:Roche Bros. Plaza parking area\, Speen St and West Central St\, Natick\, Massachusetts\, US
ATTACH;FMTTYPE=image/jpeg:https://massenergize-wp-media.s3.us-east-2.amazonaws.com/sites/28/Rev_Mrtl_Arts_Heroes-240330-030510-scaled.jpg
END:VEVENT
BEGIN:VEVENT
DTSTART;TZID=America/New_York:20240312T130000
DTEND;TZID=America/New_York:20240312T143000
DTSTAMP:20260422T175319
CREATED:20251125T162515Z
LAST-MODIFIED:20251125T162515Z
UID:10000075-1710248400-1710253800@econatick.org
SUMMARY:Specialized Building Code information session
DESCRIPTION:Join code experts from the MA Department of Energy Resources and Mass Save for an overview of the Specialized Code\, and learn from an area builder about his experience building highly energy efficient homes. Ample time for Q&A and a review of available incentives and upcoming training opportunities will also be provided.
URL:https://econatick.org/event/specialized-building-code-information-session/
ATTACH;FMTTYPE=image/jpeg:https://massenergize-wp-media.s3.us-east-2.amazonaws.com/sites/28/Screenshot_2023-09-06_at_1.24.06_PM-230906-172447.jpg
END:VEVENT
BEGIN:VEVENT
DTSTART;TZID=America/New_York:20230715T130000
DTEND;TZID=America/New_York:20230715T160000
DTSTAMP:20260422T175319
CREATED:20251125T162517Z
LAST-MODIFIED:20251125T162517Z
UID:10000076-1689426000-1689436800@econatick.org
SUMMARY:Annual Keep Natick Beautiful Dug Pond Cleanup
DESCRIPTION:Please join Keep Natick Beautiful for the 2nd Annual Dug Pond Clean-up\, in memory of Brett Conaway\, Brigadier General\, Massachusetts National Guard. \nSnacks\, water\, pickers\, safety vests\, will be provided.  Wear old clothing\, sneakers\, long pants\, long-sleeve shirt\, bring a water bottle\, and gloves (if you have them). \nThis event is a collaboration with SPARK Kindness\, Natick Rotary\, and Natick Veterans.
URL:https://econatick.org/event/annual-keep-natick-beautiful-dug-pond-cleanup/
ATTACH;FMTTYPE=image/jpeg:https://massenergize-wp-media.s3.us-east-2.amazonaws.com/sites/28/Pat_Conaway_kayaking.jpg
END:VEVENT
END:VCALENDAR