BEGIN:VCALENDAR
VERSION:2.0
PRODID:-//EcoNatick - ECPv6.15.18//NONSGML v1.0//EN
CALSCALE:GREGORIAN
METHOD:PUBLISH
X-WR-CALNAME:EcoNatick
X-ORIGINAL-URL:https://econatick.org
X-WR-CALDESC:Events for EcoNatick
REFRESH-INTERVAL;VALUE=DURATION:PT1H
X-Robots-Tag:noindex
X-PUBLISHED-TTL:PT1H
BEGIN:VTIMEZONE
TZID:America/New_York
BEGIN:DAYLIGHT
TZOFFSETFROM:-0500
TZOFFSETTO:-0400
TZNAME:EDT
DTSTART:20220313T070000
END:DAYLIGHT
BEGIN:STANDARD
TZOFFSETFROM:-0400
TZOFFSETTO:-0500
TZNAME:EST
DTSTART:20221106T060000
END:STANDARD
BEGIN:DAYLIGHT
TZOFFSETFROM:-0500
TZOFFSETTO:-0400
TZNAME:EDT
DTSTART:20230312T070000
END:DAYLIGHT
BEGIN:STANDARD
TZOFFSETFROM:-0400
TZOFFSETTO:-0500
TZNAME:EST
DTSTART:20231105T060000
END:STANDARD
BEGIN:DAYLIGHT
TZOFFSETFROM:-0500
TZOFFSETTO:-0400
TZNAME:EDT
DTSTART:20240310T070000
END:DAYLIGHT
BEGIN:STANDARD
TZOFFSETFROM:-0400
TZOFFSETTO:-0500
TZNAME:EST
DTSTART:20241103T060000
END:STANDARD
BEGIN:DAYLIGHT
TZOFFSETFROM:-0500
TZOFFSETTO:-0400
TZNAME:EDT
DTSTART:20250309T070000
END:DAYLIGHT
BEGIN:STANDARD
TZOFFSETFROM:-0400
TZOFFSETTO:-0500
TZNAME:EST
DTSTART:20251102T060000
END:STANDARD
END:VTIMEZONE
BEGIN:VEVENT
DTSTART;TZID=America/New_York:20240312T130000
DTEND;TZID=America/New_York:20240312T143000
DTSTAMP:20260422T185119
CREATED:20251125T162515Z
LAST-MODIFIED:20251125T162515Z
UID:10000075-1710248400-1710253800@econatick.org
SUMMARY:Specialized Building Code information session
DESCRIPTION:Join code experts from the MA Department of Energy Resources and Mass Save for an overview of the Specialized Code\, and learn from an area builder about his experience building highly energy efficient homes. Ample time for Q&A and a review of available incentives and upcoming training opportunities will also be provided.
URL:https://econatick.org/event/specialized-building-code-information-session/
ATTACH;FMTTYPE=image/jpeg:https://massenergize-wp-media.s3.us-east-2.amazonaws.com/sites/28/Screenshot_2023-09-06_at_1.24.06_PM-230906-172447.jpg
END:VEVENT
BEGIN:VEVENT
DTSTART;TZID=America/New_York:20230715T130000
DTEND;TZID=America/New_York:20230715T160000
DTSTAMP:20260422T185119
CREATED:20251125T162517Z
LAST-MODIFIED:20251125T162517Z
UID:10000076-1689426000-1689436800@econatick.org
SUMMARY:Annual Keep Natick Beautiful Dug Pond Cleanup
DESCRIPTION:Please join Keep Natick Beautiful for the 2nd Annual Dug Pond Clean-up\, in memory of Brett Conaway\, Brigadier General\, Massachusetts National Guard. \nSnacks\, water\, pickers\, safety vests\, will be provided.  Wear old clothing\, sneakers\, long pants\, long-sleeve shirt\, bring a water bottle\, and gloves (if you have them). \nThis event is a collaboration with SPARK Kindness\, Natick Rotary\, and Natick Veterans.
URL:https://econatick.org/event/annual-keep-natick-beautiful-dug-pond-cleanup/
ATTACH;FMTTYPE=image/jpeg:https://massenergize-wp-media.s3.us-east-2.amazonaws.com/sites/28/Pat_Conaway_kayaking.jpg
END:VEVENT
END:VCALENDAR