BEGIN:VCALENDAR
VERSION:2.0
PRODID:-//EcoNatick - ECPv6.15.18//NONSGML v1.0//EN
CALSCALE:GREGORIAN
METHOD:PUBLISH
X-ORIGINAL-URL:https://econatick.org
X-WR-CALDESC:Events for EcoNatick
REFRESH-INTERVAL;VALUE=DURATION:PT1H
X-Robots-Tag:noindex
X-PUBLISHED-TTL:PT1H
BEGIN:VTIMEZONE
TZID:America/New_York
BEGIN:DAYLIGHT
TZOFFSETFROM:-0500
TZOFFSETTO:-0400
TZNAME:EDT
DTSTART:20250309T070000
END:DAYLIGHT
BEGIN:STANDARD
TZOFFSETFROM:-0400
TZOFFSETTO:-0500
TZNAME:EST
DTSTART:20251102T060000
END:STANDARD
BEGIN:DAYLIGHT
TZOFFSETFROM:-0500
TZOFFSETTO:-0400
TZNAME:EDT
DTSTART:20260308T070000
END:DAYLIGHT
BEGIN:STANDARD
TZOFFSETFROM:-0400
TZOFFSETTO:-0500
TZNAME:EST
DTSTART:20261101T060000
END:STANDARD
BEGIN:DAYLIGHT
TZOFFSETFROM:-0500
TZOFFSETTO:-0400
TZNAME:EDT
DTSTART:20270314T070000
END:DAYLIGHT
BEGIN:STANDARD
TZOFFSETFROM:-0400
TZOFFSETTO:-0500
TZNAME:EST
DTSTART:20271107T060000
END:STANDARD
END:VTIMEZONE
BEGIN:VEVENT
DTSTART;TZID=America/New_York:20260516T090000
DTEND;TZID=America/New_York:20260516T130000
DTSTAMP:20260421T153009
CREATED:20260419T011612Z
LAST-MODIFIED:20260419T011612Z
UID:10000180-1778922000-1778936400@econatick.org
SUMMARY:Recycle an unneeded Bike!
DESCRIPTION:Bring your old\, tired\, or just unneeded bike to Wayland Town Center\, behind Ace Hardware\, on May 16th between 9 and 1. The bikes will be delivered to the Lowell Bike Connector. \nThe Bike Connector’s mission is to provide the Greater Lowell Community with safe and affordable bicycles. The bikes are fixed up and then distributed to kids and adults in need of low-cost\, local transportation. \nRegistration is optional\, but it will help us plan. Click here to register.
URL:https://econatick.org/event/recycle-an-unneeded-bike/
LOCATION:Ace Hardware\, 70 Andrew Ave.\, Wayland\, 01778\, United States
ATTACH;FMTTYPE=image/jpeg:https://massenergize-wp-media.s3.us-east-2.amazonaws.com/sites/28/Ostoff_7-240521-004220-scaled.jpg
END:VEVENT
END:VCALENDAR