BEGIN:VCALENDAR
VERSION:2.0
PRODID:-//EcoNatick - ECPv6.15.18//NONSGML v1.0//EN
CALSCALE:GREGORIAN
METHOD:PUBLISH
X-WR-CALNAME:EcoNatick
X-ORIGINAL-URL:https://econatick.org
X-WR-CALDESC:Events for EcoNatick
REFRESH-INTERVAL;VALUE=DURATION:PT1H
X-Robots-Tag:noindex
X-PUBLISHED-TTL:PT1H
BEGIN:VTIMEZONE
TZID:America/New_York
BEGIN:DAYLIGHT
TZOFFSETFROM:-0500
TZOFFSETTO:-0400
TZNAME:EDT
DTSTART:20250309T070000
END:DAYLIGHT
BEGIN:STANDARD
TZOFFSETFROM:-0400
TZOFFSETTO:-0500
TZNAME:EST
DTSTART:20251102T060000
END:STANDARD
BEGIN:DAYLIGHT
TZOFFSETFROM:-0500
TZOFFSETTO:-0400
TZNAME:EDT
DTSTART:20260308T070000
END:DAYLIGHT
BEGIN:STANDARD
TZOFFSETFROM:-0400
TZOFFSETTO:-0500
TZNAME:EST
DTSTART:20261101T060000
END:STANDARD
BEGIN:DAYLIGHT
TZOFFSETFROM:-0500
TZOFFSETTO:-0400
TZNAME:EDT
DTSTART:20270314T070000
END:DAYLIGHT
BEGIN:STANDARD
TZOFFSETFROM:-0400
TZOFFSETTO:-0500
TZNAME:EST
DTSTART:20271107T060000
END:STANDARD
END:VTIMEZONE
BEGIN:VEVENT
DTSTART;TZID=America/New_York:20260114T190000
DTEND;TZID=America/New_York:20260114T203000
DTSTAMP:20260421T103202
CREATED:20260114T033348Z
LAST-MODIFIED:20260115T012414Z
UID:10000155-1768417200-1768422600@econatick.org
SUMMARY:Natick Net Zero Committee meeting
DESCRIPTION:Natick’s Net Zero Natick Committee actively works with the Natick Sustainability Office to advance the Town of Natick’s goal to achieve net zero greenhouse gas emissions by 2050. In this capacity\, the Committee will be responsible for: \n– Tracking and reporting on community-wide greenhouse gas emissions\n– Updating the Town of Natick’s Net Zero Action Plan every five years\n– Advancing priorities identified in Natick’s Net Zero Action Plan\n– Engaging residents\, businesses\, institutions and volunteer groups to achieve Natick’s net zero goal\n– Advising the Select Board on issues related to Natick’s net zero goal \nThis meeting’s agenda is offered at this link. \nReference Material:\nNatick’s Net Zero Plan\nJan 14 Meeting Materials
URL:https://econatick.org/event/natick-net-zero-committee-meeting/
LOCATION:Community Senior Center\, 117 E Central St \, Room Room 125\, Natick\, Massachusetts\, US
ATTACH;FMTTYPE=image/jpeg:https://massenergize-wp-media.s3.us-east-2.amazonaws.com/sites/28/IMG_8372-250621-165500-scaled.jpg
END:VEVENT
END:VCALENDAR