BEGIN:VCALENDAR
VERSION:2.0
PRODID:-//EcoNatick - ECPv6.15.18//NONSGML v1.0//EN
CALSCALE:GREGORIAN
METHOD:PUBLISH
X-ORIGINAL-URL:https://econatick.org
X-WR-CALDESC:Events for EcoNatick
REFRESH-INTERVAL;VALUE=DURATION:PT1H
X-Robots-Tag:noindex
X-PUBLISHED-TTL:PT1H
BEGIN:VTIMEZONE
TZID:America/New_York
BEGIN:DAYLIGHT
TZOFFSETFROM:-0500
TZOFFSETTO:-0400
TZNAME:EDT
DTSTART:20240310T070000
END:DAYLIGHT
BEGIN:STANDARD
TZOFFSETFROM:-0400
TZOFFSETTO:-0500
TZNAME:EST
DTSTART:20241103T060000
END:STANDARD
BEGIN:DAYLIGHT
TZOFFSETFROM:-0500
TZOFFSETTO:-0400
TZNAME:EDT
DTSTART:20250309T070000
END:DAYLIGHT
BEGIN:STANDARD
TZOFFSETFROM:-0400
TZOFFSETTO:-0500
TZNAME:EST
DTSTART:20251102T060000
END:STANDARD
BEGIN:DAYLIGHT
TZOFFSETFROM:-0500
TZOFFSETTO:-0400
TZNAME:EDT
DTSTART:20260308T070000
END:DAYLIGHT
BEGIN:STANDARD
TZOFFSETFROM:-0400
TZOFFSETTO:-0500
TZNAME:EST
DTSTART:20261101T060000
END:STANDARD
END:VTIMEZONE
BEGIN:VEVENT
DTSTART;TZID=America/New_York:20250709T170000
DTEND;TZID=America/New_York:20250709T180000
DTSTAMP:20260421T201911
CREATED:20251125T162333Z
LAST-MODIFIED:20251125T162333Z
UID:10000007-1752080400-1752084000@econatick.org
SUMMARY:Tips for Beating the Heat
DESCRIPTION:TIPS FOR BEATING THE HEAT \nWednesday | July 9 | 1:00 PM \nJoin Dr. Roger Luckmann\, Associate Professor of Family Medicine and Community Health at UMass Medical School\, who will discuss: What to expect and why we’re experiencing hotter summers and more heat waves in Massachusetts; how our bodies maintain a normal temperature and adapt to heat exposure; what happens when we get overheated – heat exhaustion and heat stroke; the conditions\, activities and personal risk factors that increase the risk for heat illness including how to prevent it and how to respond to the symptoms. Dr. Luckmann will also discuss ways we can all contribute to cooling the planet. Following the presentation\, stick around for a frozen treat. Register HERE
URL:https://econatick.org/event/tips-for-beating-the-heat/
LOCATION:Natick Community Senior Center\, 117 East Central Street\, Natick\, Massachusetts\, US
ATTACH;FMTTYPE=image/jpeg:https://massenergize-wp-media.s3.us-east-2.amazonaws.com/sites/28/IMG_8372-250621-165500-1-scaled.jpg
END:VEVENT
END:VCALENDAR