BEGIN:VCALENDAR
VERSION:2.0
PRODID:-//EcoNatick - ECPv6.15.18//NONSGML v1.0//EN
CALSCALE:GREGORIAN
METHOD:PUBLISH
X-WR-CALNAME:EcoNatick
X-ORIGINAL-URL:https://econatick.org
X-WR-CALDESC:Events for EcoNatick
REFRESH-INTERVAL;VALUE=DURATION:PT1H
X-Robots-Tag:noindex
X-PUBLISHED-TTL:PT1H
BEGIN:VTIMEZONE
TZID:America/New_York
BEGIN:DAYLIGHT
TZOFFSETFROM:-0500
TZOFFSETTO:-0400
TZNAME:EDT
DTSTART:20240310T070000
END:DAYLIGHT
BEGIN:STANDARD
TZOFFSETFROM:-0400
TZOFFSETTO:-0500
TZNAME:EST
DTSTART:20241103T060000
END:STANDARD
BEGIN:DAYLIGHT
TZOFFSETFROM:-0500
TZOFFSETTO:-0400
TZNAME:EDT
DTSTART:20250309T070000
END:DAYLIGHT
BEGIN:STANDARD
TZOFFSETFROM:-0400
TZOFFSETTO:-0500
TZNAME:EST
DTSTART:20251102T060000
END:STANDARD
BEGIN:DAYLIGHT
TZOFFSETFROM:-0500
TZOFFSETTO:-0400
TZNAME:EDT
DTSTART:20260308T070000
END:DAYLIGHT
BEGIN:STANDARD
TZOFFSETFROM:-0400
TZOFFSETTO:-0500
TZNAME:EST
DTSTART:20261101T060000
END:STANDARD
END:VTIMEZONE
BEGIN:VEVENT
DTSTART;TZID=America/New_York:20250503T000000
DTEND;TZID=America/New_York:20250504T013000
DTSTAMP:20260421T231505
CREATED:20251125T162400Z
LAST-MODIFIED:20251125T162400Z
UID:10000032-1746230400-1746322200@econatick.org
SUMMARY:Free Public Telescope Nights
DESCRIPTION:Free Public Telescope Nights Friday and Saturday to observe the 1st quarter moon. \nRSVP HERE: https://nescitech.org/telescope \nWEATHER: If the weather is rainy or overcast\, we will not open for telescope night\, although you are welcome to call to see if we will have other astronomy opportunities that night.  In case of questionable weather\, call 508-720-4179 about one hour before the event for a final decision. \nParking proximity may challenge those with limited mobility. \n 
URL:https://econatick.org/event/free-public-telescope-nights/
LOCATION:New England Sci-Tech\, 16 Tech Circle\, Natick\, 01760\, United States
ATTACH;FMTTYPE=image/jpeg:https://massenergize-wp-media.s3.us-east-2.amazonaws.com/sites/28/Telescope-250425-010940.jpg
END:VEVENT
BEGIN:VEVENT
DTSTART;TZID=America/New_York:20250503T110000
DTEND;TZID=America/New_York:20250504T230000
DTSTAMP:20260421T231505
CREATED:20251125T162359Z
LAST-MODIFIED:20251125T162359Z
UID:10000031-1746270000-1746399600@econatick.org
SUMMARY:Visit Broadmoor - Free for Natick residents!
DESCRIPTION:First-timer or expert\, nature-lovers of all ages are invited on a self-guided walk through varied habitats and landscapes in search of seasonal birds and other wildlife.  \nAdmission to Mass Audubon’s Broadmoor Sanctuary is free to Natick residents!  Come explore this gem at your own pace\, dawn to dusk. \n \n 
URL:https://econatick.org/event/visit-broadmoor-free-for-natick-residents/
LOCATION:280 Eliot Street\, Natick\, 280 Eliot Street\, Natick\, Massachusetts\, US
ATTACH;FMTTYPE=image/jpeg:https://massenergize-wp-media.s3.us-east-2.amazonaws.com/sites/28/Broadmoor_framed-230420-004036.jpg
END:VEVENT
BEGIN:VEVENT
DTSTART;TZID=America/New_York:20250503T120000
DTEND;TZID=America/New_York:20250504T220000
DTSTAMP:20260421T231505
CREATED:20251125T162357Z
LAST-MODIFIED:20251125T162357Z
UID:10000029-1746273600-1746396000@econatick.org
SUMMARY:Visit Natick Community Organic Farm
DESCRIPTION:A true gem of the Natick Community\, the Farm is open for free to the public\, every day of the year during daylight hours. Please stop by any time to see whats growing in the fields\, wave hello to our animals\, and enjoy the scenic beauty of the Natick Community Organic Farm! \nAs you walk through the Farm\, if you have any questions about our practices\, history\, or the ecology of our land\, please don’t hesitate to reach out. We’d love to hear from you.  \ninfo@natickfarm.org \n508.655.2204
URL:https://econatick.org/event/visit-natick-community-organic-farm/
LOCATION:117 Eliot St\, Natick\, 117 Eliot St\, Natick\, MA\, US
ATTACH;FMTTYPE=image/jpeg:https://massenergize-wp-media.s3.us-east-2.amazonaws.com/sites/28/NCOF-250423-051915.jpg
END:VEVENT
BEGIN:VEVENT
DTSTART;TZID=America/New_York:20250503T160000
DTEND;TZID=America/New_York:20250504T160100
DTSTAMP:20260421T231505
CREATED:20251125T162529Z
LAST-MODIFIED:20251125T162529Z
UID:10000090-1746288000-1746374460@econatick.org
SUMMARY:Kids' Earth Day Art Walk - NOW through May 4!
DESCRIPTION:What do you love or appreciate about our earth? Natick 2nd graders created art to share their answer to this question\, and you can find their artwork posted in businesses throughout Natick. Take some time this weekend to stroll by business windows and be inspired by these young artists and their love for our planet. \nLocations:Debsan                               25 N MainBaylee Bee                          19 N MainHeads Up                            11 N MainCultural District                    8 Court StreetUni-T                                    8 Court StreetTen Trees                             22 N. Main (located inside The Hive)Le Belle                               24 N MainDates & Olives                    28 N MainD’Arcy Wellness                  63 S MainDion’s Fine Wines                4 S. AvenuePlanted Collective               37 S. MainLolas                                     9 N MainFrame Shop                          5 N MainPaper Fiesta                          1 N MainButtercup                              13 W CentralNatick Outdoor Store           38 North Ave.Charles River Coffee House  57 Eliot St. \n 
URL:https://econatick.org/event/kids-earth-day-art-walk-now-through-may-4/
LOCATION:Various locations around town\, 8 Court Street\, Natick\, Massachusetts\, US
ATTACH;FMTTYPE=image/jpeg:https://massenergize-wp-media.s3.us-east-2.amazonaws.com/sites/28/1411_-_Kids_art_walk-240412-164738.jpg
END:VEVENT
BEGIN:VEVENT
DTSTART;TZID=America/New_York:20250504T130000
DTEND;TZID=America/New_York:20250504T140000
DTSTAMP:20260421T231505
CREATED:20251125T162350Z
LAST-MODIFIED:20251125T162350Z
UID:10000021-1746363600-1746367200@econatick.org
SUMMARY:Trail Walk near Downtown
DESCRIPTION:Have you wanted to walk in Natick’s woods\, but don’t know where to start? Join us as we explore two delightful open spaces that are surprisingly close to Natick Center – Coolidge Hill and the Eisenmenger Trail. This easy\, one-hour walk is suited for everyone\, but is designed specially for those who are not yet familiar with Natick’s trails. Sponsored by the Natick Open Space Advisory Committee.  \nWEATHER: This event will NOT happen “rain or shine.” \nACCESSIBILITY: This event has uneven ground or steep slope.
URL:https://econatick.org/event/trail-walk-near-downtown/
LOCATION:Coolidge Field (end of Sheridan St.)\, 22 Sheridan St.\, Natick\, Massachusetts\, US
ATTACH;FMTTYPE=image/jpeg:https://massenergize-wp-media.s3.us-east-2.amazonaws.com/sites/28/Trail_walk_near_Downtown-250423-013903.jpg
END:VEVENT
BEGIN:VEVENT
DTSTART;TZID=America/New_York:20250504T150000
DTEND;TZID=America/New_York:20250504T170000
DTSTAMP:20260421T231505
CREATED:20251125T162349Z
LAST-MODIFIED:20251125T162349Z
UID:10000020-1746370800-1746378000@econatick.org
SUMMARY:Tree for the Taking
DESCRIPTION:Showcasing prototype electric guitars built in Natick using invasive tree of heaven\, reclaimed wood\, and other sustainable materials. Stop by to discuss sustainability in guitar manufacturing\, and to hear guitars built without any deforestation. \nFull build videos of guitars are available on the Tree for the Taking Youtube channel.  \nWEATHER: This event will NOT happen “rain or shine.” \nACCESSIBILITY: This is an accessible event. You might want to bring a chair if you plan to stick around to listen.
URL:https://econatick.org/event/tree-for-the-taking/
LOCATION:Sanctuary neighborhood\, sidewalk\, 19 Whispering Lane\, Natick\, Massachusetts\, US
ATTACH;FMTTYPE=image/jpeg:https://massenergize-wp-media.s3.us-east-2.amazonaws.com/sites/28/Tree_for_the_Taking-250423-015938.jpg
END:VEVENT
BEGIN:VEVENT
DTSTART;TZID=America/New_York:20250504T170000
DTEND;TZID=America/New_York:20250504T190000
DTSTAMP:20260421T231505
CREATED:20251125T162346Z
LAST-MODIFIED:20251125T162346Z
UID:10000017-1746378000-1746385200@econatick.org
SUMMARY:Rail Trail Clean Up
DESCRIPTION:All ages are welcome! Connect and serve with SPARK Kindness\, Keep Natick Beautiful\, Natick AMVETS Post 79\, and the Natick Rotary Club at our community clean-up to improve the natural environment along the Cochituate Rail Trail in the area of AMVETS\, from Rt. 9 to Rt. 30. Help with trail and shoreline clean-up! Connect with neighbors\, enjoy nature\, and help us take care of this special place for recreation\, right in our own backyard.  \nRSVPs aren’t required but are encouraged to help us plan – RSVP here! \nMeeting Location: Natick AMVETS Post 79\, 79 Superior Drive\, Natick (parking available for this special event in the AMVETS lot). Drive\, bike\, scoot\, or walk to join us! \nWhat to wear: Comfortable clothes for clean-up activities. Feel free to bring gloves. All other supplies will be provided. \nQuestions: Feel free to contact Elizabeth Greer at enolangreer@sparkkindness.org. \nWEATHER: This event will happen “rain or shine.” \nACCESSIBILITY: There may be uneven ground or steep slope. 
URL:https://econatick.org/event/rail-trail-clean-up/
LOCATION:AmVets Post 79\, 79 Superior Dr\, Natick\, Massachusetts\, US
ATTACH;FMTTYPE=image/jpeg:https://massenergize-wp-media.s3.us-east-2.amazonaws.com/sites/28/Rail_Trail_cleanup_1-250423-010559.jpg
END:VEVENT
BEGIN:VEVENT
DTSTART;TZID=America/New_York:20250504T170000
DTEND;TZID=America/New_York:20250504T190000
DTSTAMP:20260421T231505
CREATED:20251125T162347Z
LAST-MODIFIED:20251125T162347Z
UID:10000018-1746378000-1746385200@econatick.org
SUMMARY:Charles River Park Improvement Project Site Walk
DESCRIPTION:The project team will host a site walk during EcoNatick’s Earth Day Around Natick weekend.  Signs and perspectives will be placed throughout the site to show the public proposed features and changes for the park areas. \nTown staff and Weston & Sampson staff will be available at the following locations to answer questions: \n\nOld Town Park\nGrove Park
URL:https://econatick.org/event/charles-river-park-improvement-project-site-walk/
LOCATION:Old Town Park & Grove Park\, Mill Lane\, and 11 Pleasant Street\, Natick\, Massachusetts\, US
ATTACH;FMTTYPE=image/jpeg:https://massenergize-wp-media.s3.us-east-2.amazonaws.com/sites/28/Charles_River_Park-250423-050121.jpg
END:VEVENT
BEGIN:VEVENT
DTSTART;TZID=America/New_York:20250504T180000
DTEND;TZID=America/New_York:20250504T193000
DTSTAMP:20260421T231505
CREATED:20251125T162531Z
LAST-MODIFIED:20251125T162531Z
UID:10000093-1746381600-1746387000@econatick.org
SUMMARY:Electric Vehicle Petting Zoo
DESCRIPTION:Come and check out some of the latest Electric Vehicle models and chat with their owners!  We’ll have Chevy\, Kia\, BMW\, and more! \nWhile you’re here\, bring something to be fixed at the Repair Cafe (inside the Community Senior Center)!
URL:https://econatick.org/event/electric-vehicle-petting-zoo/
LOCATION:Natick Community Senior Center\, 117 East Central Street\, Natick\, Massachusetts\, US
ATTACH;FMTTYPE=image/jpeg:https://massenergize-wp-media.s3.us-east-2.amazonaws.com/sites/28/Kirby_framed-240324-211852.jpg
END:VEVENT
END:VCALENDAR