BEGIN:VCALENDAR
VERSION:2.0
PRODID:-//EcoNatick - ECPv6.15.18//NONSGML v1.0//EN
CALSCALE:GREGORIAN
METHOD:PUBLISH
X-ORIGINAL-URL:https://econatick.org
X-WR-CALDESC:Events for EcoNatick
REFRESH-INTERVAL;VALUE=DURATION:PT1H
X-Robots-Tag:noindex
X-PUBLISHED-TTL:PT1H
BEGIN:VTIMEZONE
TZID:America/New_York
BEGIN:DAYLIGHT
TZOFFSETFROM:-0500
TZOFFSETTO:-0400
TZNAME:EDT
DTSTART:20240310T070000
END:DAYLIGHT
BEGIN:STANDARD
TZOFFSETFROM:-0400
TZOFFSETTO:-0500
TZNAME:EST
DTSTART:20241103T060000
END:STANDARD
BEGIN:DAYLIGHT
TZOFFSETFROM:-0500
TZOFFSETTO:-0400
TZNAME:EDT
DTSTART:20250309T070000
END:DAYLIGHT
BEGIN:STANDARD
TZOFFSETFROM:-0400
TZOFFSETTO:-0500
TZNAME:EST
DTSTART:20251102T060000
END:STANDARD
BEGIN:DAYLIGHT
TZOFFSETFROM:-0500
TZOFFSETTO:-0400
TZNAME:EDT
DTSTART:20260308T070000
END:DAYLIGHT
BEGIN:STANDARD
TZOFFSETFROM:-0400
TZOFFSETTO:-0500
TZNAME:EST
DTSTART:20261101T060000
END:STANDARD
END:VTIMEZONE
BEGIN:VEVENT
DTSTART;TZID=America/New_York:20250503T000000
DTEND;TZID=America/New_York:20250504T013000
DTSTAMP:20260421T231626
CREATED:20251125T162400Z
LAST-MODIFIED:20251125T162400Z
UID:10000032-1746230400-1746322200@econatick.org
SUMMARY:Free Public Telescope Nights
DESCRIPTION:Free Public Telescope Nights Friday and Saturday to observe the 1st quarter moon. \nRSVP HERE: https://nescitech.org/telescope \nWEATHER: If the weather is rainy or overcast\, we will not open for telescope night\, although you are welcome to call to see if we will have other astronomy opportunities that night.  In case of questionable weather\, call 508-720-4179 about one hour before the event for a final decision. \nParking proximity may challenge those with limited mobility. \n 
URL:https://econatick.org/event/free-public-telescope-nights/
LOCATION:New England Sci-Tech\, 16 Tech Circle\, Natick\, 01760\, United States
ATTACH;FMTTYPE=image/jpeg:https://massenergize-wp-media.s3.us-east-2.amazonaws.com/sites/28/Telescope-250425-010940.jpg
END:VEVENT
BEGIN:VEVENT
DTSTART;TZID=America/New_York:20250503T110000
DTEND;TZID=America/New_York:20250504T230000
DTSTAMP:20260421T231626
CREATED:20251125T162359Z
LAST-MODIFIED:20251125T162359Z
UID:10000031-1746270000-1746399600@econatick.org
SUMMARY:Visit Broadmoor - Free for Natick residents!
DESCRIPTION:First-timer or expert\, nature-lovers of all ages are invited on a self-guided walk through varied habitats and landscapes in search of seasonal birds and other wildlife.  \nAdmission to Mass Audubon’s Broadmoor Sanctuary is free to Natick residents!  Come explore this gem at your own pace\, dawn to dusk. \n \n 
URL:https://econatick.org/event/visit-broadmoor-free-for-natick-residents/
LOCATION:280 Eliot Street\, Natick\, 280 Eliot Street\, Natick\, Massachusetts\, US
ATTACH;FMTTYPE=image/jpeg:https://massenergize-wp-media.s3.us-east-2.amazonaws.com/sites/28/Broadmoor_framed-230420-004036.jpg
END:VEVENT
BEGIN:VEVENT
DTSTART;TZID=America/New_York:20250503T120000
DTEND;TZID=America/New_York:20250503T140000
DTSTAMP:20260421T231626
CREATED:20251125T162358Z
LAST-MODIFIED:20251125T162358Z
UID:10000030-1746273600-1746280800@econatick.org
SUMMARY:Drawing at the Dam
DESCRIPTION:Being present and observing nature by drawing pictures is a great way to relax\, focus and learn about our shared habitat. This is a drop-in artmaking session led by Rob Dunlavey who has been observing nature and making pictures at the South Natick dam for the past fifteen years.  \nBring your own materials! Suggested: any type of paper\, sketchbook\, any type of pencil\, charcoal\, pastels\, crayons\, ink + brushes/water.Not recommended: oil paints \nRob Dunlavey is an artist and award winning children’s book illustrator who lives in South Natick. \nWEATHER: This event will not happen “rain or shine.” \n\nPlanned date: Saturday\, May 3\, 2025\, 8:00 – 10:00 am\nRain date: Sunday\, May 4\, 202\,5 noon – 2:00 pm\n\nACCESSIBILITY: There may be uneven ground or steep slope. 
URL:https://econatick.org/event/drawing-at-the-dam/
LOCATION:South Natick Dam Park\, 9 Pleasant St S\, Natick\, Massachusetts\, US
ATTACH;FMTTYPE=image/jpeg:https://massenergize-wp-media.s3.us-east-2.amazonaws.com/sites/28/Drawing_at_the_Dam-250423-011620.jpg
END:VEVENT
BEGIN:VEVENT
DTSTART;TZID=America/New_York:20250503T120000
DTEND;TZID=America/New_York:20250504T220000
DTSTAMP:20260421T231626
CREATED:20251125T162357Z
LAST-MODIFIED:20251125T162357Z
UID:10000029-1746273600-1746396000@econatick.org
SUMMARY:Visit Natick Community Organic Farm
DESCRIPTION:A true gem of the Natick Community\, the Farm is open for free to the public\, every day of the year during daylight hours. Please stop by any time to see whats growing in the fields\, wave hello to our animals\, and enjoy the scenic beauty of the Natick Community Organic Farm! \nAs you walk through the Farm\, if you have any questions about our practices\, history\, or the ecology of our land\, please don’t hesitate to reach out. We’d love to hear from you.  \ninfo@natickfarm.org \n508.655.2204
URL:https://econatick.org/event/visit-natick-community-organic-farm/
LOCATION:117 Eliot St\, Natick\, 117 Eliot St\, Natick\, MA\, US
ATTACH;FMTTYPE=image/jpeg:https://massenergize-wp-media.s3.us-east-2.amazonaws.com/sites/28/NCOF-250423-051915.jpg
END:VEVENT
BEGIN:VEVENT
DTSTART;TZID=America/New_York:20250503T130000
DTEND;TZID=America/New_York:20250503T160000
DTSTAMP:20260421T231626
CREATED:20251125T162355Z
LAST-MODIFIED:20251125T162355Z
UID:10000027-1746277200-1746288000@econatick.org
SUMMARY:Board Of Health Household Hazardous Waste Collection
DESCRIPTION:The 39th annual Natick Board of Health Household Hazardous Waste drop off day is scheduled on Saturday\, May 3rd\, 2025 from 9:00 AM to 12:00 PM at the Natick Department of Public Works at 75 West Street.  \nDue to the limit of 300 cars\, we must sell tickets in advance and you must have a ticket with you when you arrive. No tickets will be sold that day: vehicles without a ticket will be turned away. \nThe ticket price is $10.00 per car for Natick Residents only. \nFor ticket information\, please visit https://www.natickma.gov/808/Household-Hazardous-Waste-Collection-Day or call the Natick Health Dept. at 508-647-6460. \n 
URL:https://econatick.org/event/board-of-health-household-hazardous-waste-collection/
LOCATION:Natick Department of Public Works\, 75 West St.\, Room Parking Lot\, Natick\, Massachusetts\, US
ATTACH;FMTTYPE=image/jpeg:https://massenergize-wp-media.s3.us-east-2.amazonaws.com/sites/28/Haz_Waste_framed-250329-011756.jpg
END:VEVENT
BEGIN:VEVENT
DTSTART;TZID=America/New_York:20250503T130000
DTEND;TZID=America/New_York:20250503T180000
DTSTAMP:20260421T231626
CREATED:20251125T162356Z
LAST-MODIFIED:20251125T162356Z
UID:10000028-1746277200-1746295200@econatick.org
SUMMARY:FCC Yard Sale
DESCRIPTION:Check out the yard sale at the First Congregational Church\, across the street from the Town Common!   The yard sale will be on the property of the First Congregational Church (front and side lawn if not raining\, inside if raining). \nYard sales allows people to recycle items they no longer need and get them to people who may want the items\, keeping the items out of the landfill. \nWEATHER: This event will happen “rain or shine.” \nACCESSIBILITY: This is an accessible event.
URL:https://econatick.org/event/fcc-yard-sale/
LOCATION:First Congregational Church Natick\, 2 East Central St.\, Natick\, Massachusetts\, US
ATTACH;FMTTYPE=image/jpeg:https://massenergize-wp-media.s3.us-east-2.amazonaws.com/sites/28/FCC_yard_sale-250423-014756.jpg
END:VEVENT
BEGIN:VEVENT
DTSTART;TZID=America/New_York:20250503T140000
DTEND;TZID=America/New_York:20250503T143000
DTSTAMP:20260421T231626
CREATED:20251125T162354Z
LAST-MODIFIED:20251125T162354Z
UID:10000026-1746280800-1746282600@econatick.org
SUMMARY:Storyhour at Morse Inst. Library
DESCRIPTION:Come enjoy a lively storytime all about the place we call home – Earth! This event is geared for preschool-aged children and their special grownups. It will start at 10:00am in the children’s department. No registration is required. \nWEATHER: This event will happen “rain or shine.” \nACCESSIBILITY: This is an accessible event.
URL:https://econatick.org/event/storyhour-at-morse-inst-library/
LOCATION:Morse Institute Library\, 14 East Central St.\, Room Lebowitz Room\, Natick\, Massachusetts\, US
ATTACH;FMTTYPE=image/jpeg:https://massenergize-wp-media.s3.us-east-2.amazonaws.com/sites/28/Morse_Inst_Library-250423-012212.jpg
END:VEVENT
BEGIN:VEVENT
DTSTART;TZID=America/New_York:20250503T160000
DTEND;TZID=America/New_York:20250504T160100
DTSTAMP:20260421T231626
CREATED:20251125T162529Z
LAST-MODIFIED:20251125T162529Z
UID:10000090-1746288000-1746374460@econatick.org
SUMMARY:Kids' Earth Day Art Walk - NOW through May 4!
DESCRIPTION:What do you love or appreciate about our earth? Natick 2nd graders created art to share their answer to this question\, and you can find their artwork posted in businesses throughout Natick. Take some time this weekend to stroll by business windows and be inspired by these young artists and their love for our planet. \nLocations:Debsan                               25 N MainBaylee Bee                          19 N MainHeads Up                            11 N MainCultural District                    8 Court StreetUni-T                                    8 Court StreetTen Trees                             22 N. Main (located inside The Hive)Le Belle                               24 N MainDates & Olives                    28 N MainD’Arcy Wellness                  63 S MainDion’s Fine Wines                4 S. AvenuePlanted Collective               37 S. MainLolas                                     9 N MainFrame Shop                          5 N MainPaper Fiesta                          1 N MainButtercup                              13 W CentralNatick Outdoor Store           38 North Ave.Charles River Coffee House  57 Eliot St. \n 
URL:https://econatick.org/event/kids-earth-day-art-walk-now-through-may-4/
LOCATION:Various locations around town\, 8 Court Street\, Natick\, Massachusetts\, US
ATTACH;FMTTYPE=image/jpeg:https://massenergize-wp-media.s3.us-east-2.amazonaws.com/sites/28/1411_-_Kids_art_walk-240412-164738.jpg
END:VEVENT
BEGIN:VEVENT
DTSTART;TZID=America/New_York:20250503T170000
DTEND;TZID=America/New_York:20250503T190000
DTSTAMP:20260421T231626
CREATED:20251125T162351Z
LAST-MODIFIED:20251125T162351Z
UID:10000023-1746291600-1746298800@econatick.org
SUMMARY:Walk - "Where Does the Stormwater Go?"
DESCRIPTION:A roughly 2-mile walk associated with the Stormwater Treatment at Dug Pond grant project in partnership with Charles River Watershed Association. The walk will start at 1 South Main St\, move down Rt 27 towards the high school\, stop at a few locations to discuss features of the watershed\, and then return to Natick Center via Pond Street.  \nREGISTER TO ATTEND HERE. \nWEATHER: This event will happen “rain or shine.” We do expect to move forward with the event unless there is thunder/lightning\, so please dress appropriately! \nACCESSIBILITY: This event has uneven ground or steep slope.
URL:https://econatick.org/event/walk-where-does-the-stormwater-go/
LOCATION:Natick Center to Dug Pond and back\, 1 South Main Street\, Natick\, Massachusetts\, US
ATTACH;FMTTYPE=image/jpeg:https://massenergize-wp-media.s3.us-east-2.amazonaws.com/sites/28/Stormwater_Walk-250423-012804.jpg
END:VEVENT
BEGIN:VEVENT
DTSTART;TZID=America/New_York:20250503T190000
DTEND;TZID=America/New_York:20250503T200000
DTSTAMP:20260421T231626
CREATED:20251125T162351Z
LAST-MODIFIED:20251125T162351Z
UID:10000022-1746298800-1746302400@econatick.org
SUMMARY:Henry Wilson Trail Historical Tour
DESCRIPTION:Join Open Space Advisory Committee member Terri Evans for a walk on the Henry Wilson Trail\, which honors Wilson\, who was Vice President under Ulysses Grant. The walk starts a short distance from his former home and follows a series of markers\, ending near his grave in Old Dell Park Cemetery. Born Jeremiah Colbath\, Wilson came to Natick as a young man and became a shoemaker. He would go on to serve in the state legislature. Nicknamed\, “The Natick Cobbler”\, he represented Massachusetts in the US Senate before becoming Vice President. The trail\, which skirts DCR land\, has views of Fisk Pond. On the walk\, we’ll talk about the pond and Lake Cochituate\, as well as the lake’s geological origins and its role in providing Boston’s water supply. \nWEATHER: This event will happen “rain or shine.” \nACCESSIBILITY: This event has uneven ground or steep slope.
URL:https://econatick.org/event/henry-wilson-trail-historical-tour/
ATTACH;FMTTYPE=image/jpeg:https://massenergize-wp-media.s3.us-east-2.amazonaws.com/sites/28/Henry_Wilson_Trail-250423-013323.jpg
END:VEVENT
END:VCALENDAR