BEGIN:VCALENDAR
VERSION:2.0
PRODID:-//EcoNatick - ECPv6.15.18//NONSGML v1.0//EN
CALSCALE:GREGORIAN
METHOD:PUBLISH
X-WR-CALNAME:EcoNatick
X-ORIGINAL-URL:https://econatick.org
X-WR-CALDESC:Events for EcoNatick
REFRESH-INTERVAL;VALUE=DURATION:PT1H
X-Robots-Tag:noindex
X-PUBLISHED-TTL:PT1H
BEGIN:VTIMEZONE
TZID:America/New_York
BEGIN:DAYLIGHT
TZOFFSETFROM:-0500
TZOFFSETTO:-0400
TZNAME:EDT
DTSTART:20240310T070000
END:DAYLIGHT
BEGIN:STANDARD
TZOFFSETFROM:-0400
TZOFFSETTO:-0500
TZNAME:EST
DTSTART:20241103T060000
END:STANDARD
BEGIN:DAYLIGHT
TZOFFSETFROM:-0500
TZOFFSETTO:-0400
TZNAME:EDT
DTSTART:20250309T070000
END:DAYLIGHT
BEGIN:STANDARD
TZOFFSETFROM:-0400
TZOFFSETTO:-0500
TZNAME:EST
DTSTART:20251102T060000
END:STANDARD
BEGIN:DAYLIGHT
TZOFFSETFROM:-0500
TZOFFSETTO:-0400
TZNAME:EDT
DTSTART:20260308T070000
END:DAYLIGHT
BEGIN:STANDARD
TZOFFSETFROM:-0400
TZOFFSETTO:-0500
TZNAME:EST
DTSTART:20261101T060000
END:STANDARD
END:VTIMEZONE
BEGIN:VEVENT
DTSTART;TZID=America/New_York:20250415T150000
DTEND;TZID=America/New_York:20250421T160000
DTSTAMP:20260422T005338
CREATED:20251125T162404Z
LAST-MODIFIED:20251125T162404Z
UID:10000035-1744729200-1745251200@econatick.org
SUMMARY:Sign up for a Community Garden
DESCRIPTION:The Town of Natick operates four organic community gardens for residents. These welcoming green spaces are cared for by Natick residents and volunteer groups\, and build community through the shared work of growing fresh\, healthy food. All Natick residents are welcome to participate in the community gardens program. Applications for new and returning gardeners opens on April 15\, 2025 at 11:00am.
URL:https://econatick.org/event/sign-up-for-a-community-garden/
END:VEVENT
BEGIN:VEVENT
DTSTART;TZID=America/New_York:20250417T170000
DTEND;TZID=America/New_York:20250417T180000
DTSTAMP:20260422T005338
CREATED:20251125T162403Z
LAST-MODIFIED:20251125T162403Z
UID:10000034-1744909200-1744912800@econatick.org
SUMMARY:The Truth About Mosquito Sprays: Investigating their Impact on Pollinators
DESCRIPTION:Insecticides sprayed to kill adult mosquitoes are often used in home yards\, as mosquitoes can be a nuisance and health risk. But\, the insecticides used in these sprays are broadly toxic to insects\, and the risks they pose to pollinators isn’t well known. In the summer of 2023\, Xerces performed a study comparing insecticide residues and quantifying risk to pollinators in yards sprayed by private mosquito spray services\, in yards near a neighbor who sprayed\, and yards sprayed by vector control districts. Join Aaron Anderson\, Xerces Society Pesticide Program Specialist and Towns and Cities Lead\, to hear the results of the study and discover practical\, non-chemical mosquito management strategies for use at home.
URL:https://econatick.org/event/the-truth-about-mosquito-sprays-investigating-their-impact-on-pollinators/
ATTACH;FMTTYPE=image/jpeg:https://massenergize-wp-media.s3.us-east-2.amazonaws.com/sites/28/Bumblebee_on_Purple_Giant_Hyssop.jpg
END:VEVENT
END:VCALENDAR