BEGIN:VCALENDAR
VERSION:2.0
PRODID:-//EcoNatick - ECPv6.15.18//NONSGML v1.0//EN
CALSCALE:GREGORIAN
METHOD:PUBLISH
X-ORIGINAL-URL:https://econatick.org
X-WR-CALDESC:Events for EcoNatick
REFRESH-INTERVAL;VALUE=DURATION:PT1H
X-Robots-Tag:noindex
X-PUBLISHED-TTL:PT1H
BEGIN:VTIMEZONE
TZID:America/New_York
BEGIN:DAYLIGHT
TZOFFSETFROM:-0500
TZOFFSETTO:-0400
TZNAME:EDT
DTSTART:20240310T070000
END:DAYLIGHT
BEGIN:STANDARD
TZOFFSETFROM:-0400
TZOFFSETTO:-0500
TZNAME:EST
DTSTART:20241103T060000
END:STANDARD
BEGIN:DAYLIGHT
TZOFFSETFROM:-0500
TZOFFSETTO:-0400
TZNAME:EDT
DTSTART:20250309T070000
END:DAYLIGHT
BEGIN:STANDARD
TZOFFSETFROM:-0400
TZOFFSETTO:-0500
TZNAME:EST
DTSTART:20251102T060000
END:STANDARD
BEGIN:DAYLIGHT
TZOFFSETFROM:-0500
TZOFFSETTO:-0400
TZNAME:EDT
DTSTART:20260308T070000
END:DAYLIGHT
BEGIN:STANDARD
TZOFFSETFROM:-0400
TZOFFSETTO:-0500
TZNAME:EST
DTSTART:20261101T060000
END:STANDARD
END:VTIMEZONE
BEGIN:VEVENT
DTSTART;TZID=America/New_York:20250412T130000
DTEND;TZID=America/New_York:20250412T150000
DTSTAMP:20260422T005411
CREATED:20251125T162405Z
LAST-MODIFIED:20251125T162405Z
UID:10000036-1744462800-1744470000@econatick.org
SUMMARY:Rte. 135 Pre-Marathon Cleanup
DESCRIPTION:Join Keep Natick Beautiful to clean up litter along Rte. 135 and make sure it looks its best for runners and spectators on Marathon Day. We will be working from the Framingham town line to Eddie’s Dog Park at Middlesex Path. \nWhere: Meet at Roche Bros. plaza parking area (Northwest corner)What to bring: Gloves\, water bottle\, hat\, old clothes\, sneakers/boots. We have extra gloves\, pickers\, bags and safety vests and there will be snacks! \n 
URL:https://econatick.org/event/rte-135-pre-marathon-cleanup/
LOCATION:150 W Central St\, Natick\, 150 W Central St\, Natick\, MA\, US
ATTACH;FMTTYPE=image/jpeg:https://massenergize-wp-media.s3.us-east-2.amazonaws.com/sites/28/Document.jpg
END:VEVENT
END:VCALENDAR