BEGIN:VCALENDAR
VERSION:2.0
PRODID:-//EcoNatick - ECPv6.15.18//NONSGML v1.0//EN
CALSCALE:GREGORIAN
METHOD:PUBLISH
X-WR-CALNAME:EcoNatick
X-ORIGINAL-URL:https://econatick.org
X-WR-CALDESC:Events for EcoNatick
REFRESH-INTERVAL;VALUE=DURATION:PT1H
X-Robots-Tag:noindex
X-PUBLISHED-TTL:PT1H
BEGIN:VTIMEZONE
TZID:America/New_York
BEGIN:DAYLIGHT
TZOFFSETFROM:-0500
TZOFFSETTO:-0400
TZNAME:EDT
DTSTART:20240310T070000
END:DAYLIGHT
BEGIN:STANDARD
TZOFFSETFROM:-0400
TZOFFSETTO:-0500
TZNAME:EST
DTSTART:20241103T060000
END:STANDARD
BEGIN:DAYLIGHT
TZOFFSETFROM:-0500
TZOFFSETTO:-0400
TZNAME:EDT
DTSTART:20250309T070000
END:DAYLIGHT
BEGIN:STANDARD
TZOFFSETFROM:-0400
TZOFFSETTO:-0500
TZNAME:EST
DTSTART:20251102T060000
END:STANDARD
BEGIN:DAYLIGHT
TZOFFSETFROM:-0500
TZOFFSETTO:-0400
TZNAME:EDT
DTSTART:20260308T070000
END:DAYLIGHT
BEGIN:STANDARD
TZOFFSETFROM:-0400
TZOFFSETTO:-0500
TZNAME:EST
DTSTART:20261101T060000
END:STANDARD
END:VTIMEZONE
BEGIN:VEVENT
DTSTART;TZID=America/New_York:20250318T230000
DTEND;TZID=America/New_York:20250319T003000
DTSTAMP:20260422T024751
CREATED:20251125T162406Z
LAST-MODIFIED:20251125T162406Z
UID:10000038-1742338800-1742344200@econatick.org
SUMMARY:Cut Your Home’s Carbon Footprint to Zero
DESCRIPTION:David Green is a physicist by training and has spent his career in business. On Tuesday\, March 18 at 7pm\, he will walk us through the process\, step by step\, on how to get your home’s carbon footprint to zero. \nYou can learn more about David and his process HERE. \n 
URL:https://econatick.org/event/cut-your-homes-carbon-footprint-to-zero/
ATTACH;FMTTYPE=image/jpeg:https://massenergize-wp-media.s3.us-east-2.amazonaws.com/sites/28/Copy_of_Thermal_house.jpg
END:VEVENT
END:VCALENDAR