BEGIN:VCALENDAR
VERSION:2.0
PRODID:-//EcoNatick - ECPv6.15.18//NONSGML v1.0//EN
CALSCALE:GREGORIAN
METHOD:PUBLISH
X-WR-CALNAME:EcoNatick
X-ORIGINAL-URL:https://econatick.org
X-WR-CALDESC:Events for EcoNatick
REFRESH-INTERVAL;VALUE=DURATION:PT1H
X-Robots-Tag:noindex
X-PUBLISHED-TTL:PT1H
BEGIN:VTIMEZONE
TZID:America/New_York
BEGIN:DAYLIGHT
TZOFFSETFROM:-0500
TZOFFSETTO:-0400
TZNAME:EDT
DTSTART:20240310T070000
END:DAYLIGHT
BEGIN:STANDARD
TZOFFSETFROM:-0400
TZOFFSETTO:-0500
TZNAME:EST
DTSTART:20241103T060000
END:STANDARD
BEGIN:DAYLIGHT
TZOFFSETFROM:-0500
TZOFFSETTO:-0400
TZNAME:EDT
DTSTART:20250309T070000
END:DAYLIGHT
BEGIN:STANDARD
TZOFFSETFROM:-0400
TZOFFSETTO:-0500
TZNAME:EST
DTSTART:20251102T060000
END:STANDARD
BEGIN:DAYLIGHT
TZOFFSETFROM:-0500
TZOFFSETTO:-0400
TZNAME:EDT
DTSTART:20260308T070000
END:DAYLIGHT
BEGIN:STANDARD
TZOFFSETFROM:-0400
TZOFFSETTO:-0500
TZNAME:EST
DTSTART:20261101T060000
END:STANDARD
END:VTIMEZONE
BEGIN:VEVENT
DTSTART;TZID=America/New_York:20250213T000000
DTEND;TZID=America/New_York:20250213T010000
DTSTAMP:20260422T041359
CREATED:20251125T162407Z
LAST-MODIFIED:20251125T162407Z
UID:10000039-1739404800-1739408400@econatick.org
SUMMARY:Heat Pump Water Heater Webinar - hot showers and cool savings!
DESCRIPTION:Join Natick for an online heat pump water heater webinar on February 12\, 7:00 – 8:00 pm co-sponsored by plugIN (a collaboration of 7 metrowest towns) and Resilient Swampscott. We’ll be joined by Bob Zogg\, from the Heat Smart Alliance\, hear from community members about their experiences\, and provide time for questions! Discover how this efficient electric alternative can heat your water\, save energy\, and reduce your climate impact. Heat pump water heaters are three times more efficient than conventional electric water heaters.  \nJoin us for an evening of information\, learning\, and community!  \nplugIN Metrowest is a collaboration of 7 towns & cities: Acton\, Ashland\, Framingham\, Natick\, Sudbury\, Wayland\, Westborough  \n  \nRegister here! \nCan’t make it? Register anyway and we will send the meeting recording to all who register. \n  \n  \n 
URL:https://econatick.org/event/heat-pump-water-heater-webinar-hot-showers-and-cool-savings/
ATTACH;FMTTYPE=image/png:https://massenergize-wp-media.s3.us-east-2.amazonaws.com/sites/28/Natick_Water_Heater_Webinar_212_Content-250110-113841.png
END:VEVENT
END:VCALENDAR