BEGIN:VCALENDAR
VERSION:2.0
PRODID:-//EcoNatick - ECPv6.15.18//NONSGML v1.0//EN
CALSCALE:GREGORIAN
METHOD:PUBLISH
X-WR-CALNAME:EcoNatick
X-ORIGINAL-URL:https://econatick.org
X-WR-CALDESC:Events for EcoNatick
REFRESH-INTERVAL;VALUE=DURATION:PT1H
X-Robots-Tag:noindex
X-PUBLISHED-TTL:PT1H
BEGIN:VTIMEZONE
TZID:America/New_York
BEGIN:DAYLIGHT
TZOFFSETFROM:-0500
TZOFFSETTO:-0400
TZNAME:EDT
DTSTART:20240310T070000
END:DAYLIGHT
BEGIN:STANDARD
TZOFFSETFROM:-0400
TZOFFSETTO:-0500
TZNAME:EST
DTSTART:20241103T060000
END:STANDARD
BEGIN:DAYLIGHT
TZOFFSETFROM:-0500
TZOFFSETTO:-0400
TZNAME:EDT
DTSTART:20250309T070000
END:DAYLIGHT
BEGIN:STANDARD
TZOFFSETFROM:-0400
TZOFFSETTO:-0500
TZNAME:EST
DTSTART:20251102T060000
END:STANDARD
BEGIN:DAYLIGHT
TZOFFSETFROM:-0500
TZOFFSETTO:-0400
TZNAME:EDT
DTSTART:20260308T070000
END:DAYLIGHT
BEGIN:STANDARD
TZOFFSETFROM:-0400
TZOFFSETTO:-0500
TZNAME:EST
DTSTART:20261101T060000
END:STANDARD
END:VTIMEZONE
BEGIN:VEVENT
DTSTART;TZID=America/New_York:20250205T000000
DTEND;TZID=America/New_York:20250205T020000
DTSTAMP:20260422T041329
CREATED:20251125T162409Z
LAST-MODIFIED:20251125T162409Z
UID:10000040-1738713600-1738720800@econatick.org
SUMMARY:Community Preservation Act Info Session
DESCRIPTION:Do you have questions about how the Community Preservation Act (CPA) works?Want to know how the funds are being allocated? \nAttend the CPA Public Info session and join the conversation! \nEvent will be recorded on Natick Pegasus. \nFor complete inforamtion about CPA in Natick\, see See https://www.natickma.gov/2053/Community-Preservation-Act \n 
URL:https://econatick.org/event/community-preservation-act-info-session/
LOCATION:Natick Community-Senior Center\, 117 East Central Street\, Unit null\, Natick\, Massachusetts\, US
ATTACH;FMTTYPE=image/jpeg:https://massenergize-wp-media.s3.us-east-2.amazonaws.com/sites/28/CPA_Forum_Trimmed.jpg
END:VEVENT
END:VCALENDAR