BEGIN:VCALENDAR
VERSION:2.0
PRODID:-//EcoNatick - ECPv6.15.18//NONSGML v1.0//EN
CALSCALE:GREGORIAN
METHOD:PUBLISH
X-WR-CALNAME:EcoNatick
X-ORIGINAL-URL:https://econatick.org
X-WR-CALDESC:Events for EcoNatick
REFRESH-INTERVAL;VALUE=DURATION:PT1H
X-Robots-Tag:noindex
X-PUBLISHED-TTL:PT1H
BEGIN:VTIMEZONE
TZID:America/New_York
BEGIN:DAYLIGHT
TZOFFSETFROM:-0500
TZOFFSETTO:-0400
TZNAME:EDT
DTSTART:20240310T070000
END:DAYLIGHT
BEGIN:STANDARD
TZOFFSETFROM:-0400
TZOFFSETTO:-0500
TZNAME:EST
DTSTART:20241103T060000
END:STANDARD
BEGIN:DAYLIGHT
TZOFFSETFROM:-0500
TZOFFSETTO:-0400
TZNAME:EDT
DTSTART:20250309T070000
END:DAYLIGHT
BEGIN:STANDARD
TZOFFSETFROM:-0400
TZOFFSETTO:-0500
TZNAME:EST
DTSTART:20251102T060000
END:STANDARD
BEGIN:DAYLIGHT
TZOFFSETFROM:-0500
TZOFFSETTO:-0400
TZNAME:EDT
DTSTART:20260308T070000
END:DAYLIGHT
BEGIN:STANDARD
TZOFFSETFROM:-0400
TZOFFSETTO:-0500
TZNAME:EST
DTSTART:20261101T060000
END:STANDARD
END:VTIMEZONE
BEGIN:VEVENT
DTSTART;TZID=America/New_York:20250201T160000
DTEND;TZID=America/New_York:20250201T190000
DTSTAMP:20260422T041329
CREATED:20251125T162339Z
LAST-MODIFIED:20251125T162410Z
UID:10000010-1738425600-1738436400@econatick.org
SUMMARY:Climate activists working for a better future.
DESCRIPTION:What shall we do now\, together\, about our climate? Join the conversation (or just come and listen).\nCome to an online meeting of advocates and activists and learn what we can do together.View more details here.Sign up here to receive invitations to upcoming meetings.
URL:https://econatick.org/event/climate-activists-working-for-a-better-future/
ATTACH;FMTTYPE=image/png:https://massenergize-wp-media.s3.us-east-2.amazonaws.com/sites/28/MetroWestLogoSquare-240904-041837-1.png
END:VEVENT
END:VCALENDAR