BEGIN:VCALENDAR
VERSION:2.0
PRODID:-//EcoNatick - ECPv6.15.18//NONSGML v1.0//EN
CALSCALE:GREGORIAN
METHOD:PUBLISH
X-WR-CALNAME:EcoNatick
X-ORIGINAL-URL:https://econatick.org
X-WR-CALDESC:Events for EcoNatick
REFRESH-INTERVAL;VALUE=DURATION:PT1H
X-Robots-Tag:noindex
X-PUBLISHED-TTL:PT1H
BEGIN:VTIMEZONE
TZID:America/New_York
BEGIN:DAYLIGHT
TZOFFSETFROM:-0500
TZOFFSETTO:-0400
TZNAME:EDT
DTSTART:20230312T070000
END:DAYLIGHT
BEGIN:STANDARD
TZOFFSETFROM:-0400
TZOFFSETTO:-0500
TZNAME:EST
DTSTART:20231105T060000
END:STANDARD
BEGIN:DAYLIGHT
TZOFFSETFROM:-0500
TZOFFSETTO:-0400
TZNAME:EDT
DTSTART:20240310T070000
END:DAYLIGHT
BEGIN:STANDARD
TZOFFSETFROM:-0400
TZOFFSETTO:-0500
TZNAME:EST
DTSTART:20241103T060000
END:STANDARD
BEGIN:DAYLIGHT
TZOFFSETFROM:-0500
TZOFFSETTO:-0400
TZNAME:EDT
DTSTART:20250309T070000
END:DAYLIGHT
BEGIN:STANDARD
TZOFFSETFROM:-0400
TZOFFSETTO:-0500
TZNAME:EST
DTSTART:20251102T060000
END:STANDARD
BEGIN:DAYLIGHT
TZOFFSETFROM:-0500
TZOFFSETTO:-0400
TZNAME:EDT
DTSTART:20260308T070000
END:DAYLIGHT
BEGIN:STANDARD
TZOFFSETFROM:-0400
TZOFFSETTO:-0500
TZNAME:EST
DTSTART:20261101T060000
END:STANDARD
END:VTIMEZONE
BEGIN:VEVENT
DTSTART;TZID=America/New_York:20241231T213000
DTEND;TZID=America/New_York:20250101T003000
DTSTAMP:20260424T045242
CREATED:20251125T162415Z
LAST-MODIFIED:20251125T162415Z
UID:10000043-1735680600-1735691400@econatick.org
SUMMARY:Cochituate Rail Trail on New Year's Eve
DESCRIPTION:Come enjoy the Cochituate Rail Trail on New Year’s Eve! Enjoy live performances\, enchanting lighting\, tasty treets\, and fire pits hosted by nineteen community groups. This is a family-friendly\, fun event sure to bring a smile to your face. \nGet details at FriendsOfNatickTrails.org/crtnye. Fire pits will be located from Bacon Street to Chrysler Road. \nThis free event is supported with sponsorship from TJX\, the assistance of Amvets Post 79\, and the support of the Town of Natick Public Works\, Fire\, and Police. \nSome parking is avaiable at the CRT Mechanic Street lot\, but walking to the event is encouraged.
URL:https://econatick.org/event/cochituate-rail-trail-on-new-years-eve/
LOCATION:Cochituate Rail Trail\, Chrysler Road\, Natick\, Massachusetts\, US
ATTACH;FMTTYPE=image/jpeg:https://massenergize-wp-media.s3.us-east-2.amazonaws.com/sites/28/IMG_5734-241230-173723.jpeg
END:VEVENT
END:VCALENDAR