BEGIN:VCALENDAR
VERSION:2.0
PRODID:-//EcoNatick - ECPv6.15.18//NONSGML v1.0//EN
CALSCALE:GREGORIAN
METHOD:PUBLISH
X-ORIGINAL-URL:https://econatick.org
X-WR-CALDESC:Events for EcoNatick
REFRESH-INTERVAL;VALUE=DURATION:PT1H
X-Robots-Tag:noindex
X-PUBLISHED-TTL:PT1H
BEGIN:VTIMEZONE
TZID:America/New_York
BEGIN:DAYLIGHT
TZOFFSETFROM:-0500
TZOFFSETTO:-0400
TZNAME:EDT
DTSTART:20230312T070000
END:DAYLIGHT
BEGIN:STANDARD
TZOFFSETFROM:-0400
TZOFFSETTO:-0500
TZNAME:EST
DTSTART:20231105T060000
END:STANDARD
BEGIN:DAYLIGHT
TZOFFSETFROM:-0500
TZOFFSETTO:-0400
TZNAME:EDT
DTSTART:20240310T070000
END:DAYLIGHT
BEGIN:STANDARD
TZOFFSETFROM:-0400
TZOFFSETTO:-0500
TZNAME:EST
DTSTART:20241103T060000
END:STANDARD
BEGIN:DAYLIGHT
TZOFFSETFROM:-0500
TZOFFSETTO:-0400
TZNAME:EDT
DTSTART:20250309T070000
END:DAYLIGHT
BEGIN:STANDARD
TZOFFSETFROM:-0400
TZOFFSETTO:-0500
TZNAME:EST
DTSTART:20251102T060000
END:STANDARD
END:VTIMEZONE
BEGIN:VEVENT
DTSTART;TZID=America/New_York:20241205T000000
DTEND;TZID=America/New_York:20241205T013000
DTSTAMP:20260424T061912
CREATED:20251125T162416Z
LAST-MODIFIED:20251125T162416Z
UID:10000044-1733356800-1733362200@econatick.org
SUMMARY:Electrify Everything in the Home (webinar)
DESCRIPTION:MetroWest Climate Solutions and CFREE Lincoln are co-sponsoring a session with Ross Trethewey\, Building Engineer for “This Old House” and “Ask This Old House.”  \nRoss Trethewey\, P.E.\, M. Eng.\, is Principal of TE2 Engineering with extensive experience updating homes to create a more energy-efficient and sustainable environment. He has a pragmatic approach to the important topic of electrification and the removal of fossil fuels from the home. His presentation provides an excellent holistic view of the aspects you as a homeowner need to consider when looking at energy efficiency changes that also provide a better environment for healthier living. \nThis session is sponsored by CFREE\, a subcommittee of the Lincoln Green Energy Committee\, and the following co-sponsors: MetroWest Climate Solutions\, Green Newton\,  MassEnergize\, and Electrify Arlington.   
URL:https://econatick.org/event/electrify-everything-in-the-home-webinar/
ATTACH;FMTTYPE=image/jpeg:https://massenergize-wp-media.s3.us-east-2.amazonaws.com/sites/28/Ross_Trethewey.jpg
END:VEVENT
END:VCALENDAR