BEGIN:VCALENDAR
VERSION:2.0
PRODID:-//EcoNatick - ECPv6.15.18//NONSGML v1.0//EN
CALSCALE:GREGORIAN
METHOD:PUBLISH
X-WR-CALNAME:EcoNatick
X-ORIGINAL-URL:https://econatick.org
X-WR-CALDESC:Events for EcoNatick
REFRESH-INTERVAL;VALUE=DURATION:PT1H
X-Robots-Tag:noindex
X-PUBLISHED-TTL:PT1H
BEGIN:VTIMEZONE
TZID:America/New_York
BEGIN:DAYLIGHT
TZOFFSETFROM:-0500
TZOFFSETTO:-0400
TZNAME:EDT
DTSTART:20230312T070000
END:DAYLIGHT
BEGIN:STANDARD
TZOFFSETFROM:-0400
TZOFFSETTO:-0500
TZNAME:EST
DTSTART:20231105T060000
END:STANDARD
BEGIN:DAYLIGHT
TZOFFSETFROM:-0500
TZOFFSETTO:-0400
TZNAME:EDT
DTSTART:20240310T070000
END:DAYLIGHT
BEGIN:STANDARD
TZOFFSETFROM:-0400
TZOFFSETTO:-0500
TZNAME:EST
DTSTART:20241103T060000
END:STANDARD
BEGIN:DAYLIGHT
TZOFFSETFROM:-0500
TZOFFSETTO:-0400
TZNAME:EDT
DTSTART:20250309T070000
END:DAYLIGHT
BEGIN:STANDARD
TZOFFSETFROM:-0400
TZOFFSETTO:-0500
TZNAME:EST
DTSTART:20251102T060000
END:STANDARD
END:VTIMEZONE
BEGIN:VEVENT
DTSTART;TZID=America/New_York:20241005T140000
DTEND;TZID=America/New_York:20241005T160000
DTSTAMP:20260424T092554
CREATED:20251125T162426Z
LAST-MODIFIED:20251125T162426Z
UID:10000050-1728136800-1728144000@econatick.org
SUMMARY:2024 Natick Trails Summit
DESCRIPTION:Please join with other trails advocates and volunteers on Saturday\, October 5 for the 2024 Natick Trails Summit! This event will bring together people and groups with an interest in our trails to share knowledge\, discuss recent achievements and future plans\, and get input for future initiatives. \nThe 2024 Trails Summit is presented by the Friends of Natick Trails\, the Trails and Forest Stewardship Committee\, the Open Space Advisory Committee and the Conservation Commission. We will meet in person at the Community-Senior Center on Saturday\, October 5 from 10AM to noon\, with lunch and an optional site visit to follow. Lunch and site visit details are to be announced. Please register by Friday\, September 20. \nWe welcome you to join us! And we welcome your ideas for program topics.\n \nWho should attend:\n\n\nMembers of Natick committees and organizations with a focus on the outdoors\, including trails\nInterested residents\, including prospective volunteers\nMunicipal staff\n\n\nEvent details\n\n\nSaturday\, October 5\, 10AM-noon at the Natick Community-Senior Center\, 117 East Central Street\nLunch to follow (details TBA)\nSite visit (details TBA)\n\n\nPlease register using this form by Friday\, September 20. \n 
URL:https://econatick.org/event/2024-natick-trails-summit/
LOCATION:Natick Community-Senior Center\, 117 East Central Street\, Unit null\, Natick\, Massachusetts\, US
ATTACH;FMTTYPE=image/jpeg:https://massenergize-wp-media.s3.us-east-2.amazonaws.com/sites/28/20230326_163258-240915-232945.jpg
END:VEVENT
END:VCALENDAR