BEGIN:VCALENDAR
VERSION:2.0
PRODID:-//EcoNatick - ECPv6.15.18//NONSGML v1.0//EN
CALSCALE:GREGORIAN
METHOD:PUBLISH
X-WR-CALNAME:EcoNatick
X-ORIGINAL-URL:https://econatick.org
X-WR-CALDESC:Events for EcoNatick
REFRESH-INTERVAL;VALUE=DURATION:PT1H
X-Robots-Tag:noindex
X-PUBLISHED-TTL:PT1H
BEGIN:VTIMEZONE
TZID:America/New_York
BEGIN:DAYLIGHT
TZOFFSETFROM:-0500
TZOFFSETTO:-0400
TZNAME:EDT
DTSTART:20250309T070000
END:DAYLIGHT
BEGIN:STANDARD
TZOFFSETFROM:-0400
TZOFFSETTO:-0500
TZNAME:EST
DTSTART:20251102T060000
END:STANDARD
BEGIN:DAYLIGHT
TZOFFSETFROM:-0500
TZOFFSETTO:-0400
TZNAME:EDT
DTSTART:20260308T070000
END:DAYLIGHT
BEGIN:STANDARD
TZOFFSETFROM:-0400
TZOFFSETTO:-0500
TZNAME:EST
DTSTART:20261101T060000
END:STANDARD
BEGIN:DAYLIGHT
TZOFFSETFROM:-0500
TZOFFSETTO:-0400
TZNAME:EDT
DTSTART:20270314T070000
END:DAYLIGHT
BEGIN:STANDARD
TZOFFSETFROM:-0400
TZOFFSETTO:-0500
TZNAME:EST
DTSTART:20271107T060000
END:STANDARD
END:VTIMEZONE
BEGIN:VEVENT
DTSTART;TZID=America/New_York:20260503T090000
DTEND;TZID=America/New_York:20260503T120000
DTSTAMP:20260421T071545
CREATED:20260419T000950Z
LAST-MODIFIED:20260420T164218Z
UID:6195-1777798800-1777809600@econatick.org
SUMMARY:Pickerel Pond Guided Nature Walk
DESCRIPTION:Guided nature walk on the northern trail system within the Pickerel Pond Conservation Area led by Claire Rundelli\, Natick’s Conservation Agent/Environmental Planner\, and Doug Drenik\, Chair of the Trails and Forest Stewardship Committee. Learn about the ecology and wildlife of the Pickerel Pond Area\, hear about upcoming trail improvement projects\, and hopefully catch a glimpse of a beaver! The walk will be between 2 and 3 hours depending on group size and composition. The walk will be family friendly but will cover narrow and uneven trails\, so strollers are not recommended.\n \nREGISTER HERE.\nWEATHER: This walk will happen “rain or shine.”\nACCESSIBILITY: Not accessible to wheelchairs.
URL:https://econatick.org/event/pickerel-pond-guided-nature-walk/
LOCATION:Pickerel Pond Conservation Area\, 6 Huron Drive\, Natick\, 01760\, United States
ATTACH;FMTTYPE=image/jpeg:https://econatick.org/wp-content/uploads/sites/28/2026/04/Pickerel-Pond-framed.jpg
ORGANIZER;CN="Town of Natick Trails and Forest Stewardship":MAILTO:crundelli@natickma.org
END:VEVENT
END:VCALENDAR